{"text_format":"1","workbook":"xlsx","n_sheets":7,"sheets":["A. HTT General","B1. HTT Mortgage Assets","C. HTT Harmonized Glossary","Disclaimer","D. Insert Nat Trans Templ","Details Liquid Assets","Issued Bonds"],"not_rendered":{"charts":0,"images":4,"macros":1,"external_links":3,"defined_names":2,"comments":0,"pivot_tables":0},"unopened":[],"bounds":{"document_bytes":16777216,"sheet_cells":100000,"rows_first":2000,"rows_last":500,"rows_between":2000,"halvings":0,"cell_chars":16384,"cell_head_chars":4096},"cells_cut":0,"cells_raw":0,"read":"whole","date_system":"1900"}

{"sheet":"A. HTT General","index":0,"n_rows":363,"n_cols":7,"rows_kept":363,"cut":false,"hidden":false,"merged":[]}
["A. Harmonised Transparency Template - General Information",null,null,null,null,"HTT 2019"]
[]
[null,"Reporting in Domestic Currency","NOK"]
[]
[null,"CONTENT OF TAB A"]
[null,"1. Basic Facts"]
[null,"2. Regulatory Summary"]
[null,"3. General Cover Pool / Covered Bond Information",null,null,null,"`"]
[null,"4. References to Capital Requirements Regulation (CRR) 129(7)"]
[null,"5. References to Capital Requirements Regulation (CRR) 129(1)"]
[null,"6. Other relevant information"]
[]
["Field Number","1. Basic Facts"]
["G.1.1.1","Country","Norway"]
["G.1.1.2","Issuer Name","SpareBank 1 Boligkreditt AS"]
["G.1.1.3","Link to Issuer's Website","SPABOL"]
["G.1.1.4","Cut-off date","Cut-off Date: [30/09/19]"]
["OG.1.1.1","Optional information e.g. Contact names"]
["OG.1.1.2","Optional information e.g. Parent name"]
["OG.1.1.3"]
["OG.1.1.4"]
["OG.1.1.5"]
["OG.1.1.6"]
["OG.1.1.7"]
["OG.1.1.8"]
[null,"2. Regulatory Summary"]
["G.2.1.1","UCITS Compliance (Y/N)","Y"]
["G.2.1.2","CRR Compliance (Y/N)","Y"]
["G.2.1.3","LCR status","Covered Bond Label"]
["OG.2.1.1"]
["OG.2.1.2"]
["OG.2.1.3"]
["OG.2.1.4"]
["OG.2.1.5"]
["OG.2.1.6"]
[null,"3. General Cover Pool / Covered Bond Information"]
[null,"1.General Information","Nominal (mn)"]
["G.3.1.1","Cover Pool Size",{"$f":"C58","v":212178.09378280598}]
["G.3.1.2","Outstanding Covered Bonds",{"$f":"C98","v":197703.29231756}]
["OG.3.1.1","Cover Pool Size [NPV] (mn)","[Mark as ND1 if not relevant]"]
["OG.3.1.2","Outstanding Covered Bonds [NPV] (mn)","[Mark as ND1 if not relevant]"]
["OG.3.1.3"]
["OG.3.1.4"]
[null,"2. Over-collateralisation (OC) ","Legal","Actual",null,"Minimum Committed","Purpose"]
["G.3.2.1","OC (%)",0.02,{"$f":"+C38/C39-1","v":7.321477197251669E-2},null,0.02,"LCR eligibility"]
["OG.3.2.1","Optional information e.g. Asset Coverage Test (ACT)"]
["OG.3.2.2","Optional information e.g. OC (NPV basis)"]
["OG.3.2.3"]
["OG.3.2.4"]
["OG.3.2.5"]
["OG.3.2.6"]
[null,"3. Cover Pool Composition","Nominal (mn)",null,null,"% Cover Pool"]
["G.3.3.1","Mortgages",{"$f":"-[1]Pivot!C12/1000000","v":189463.75708859978},null,null,{"$f":"IF($C$58=0,\"\",IF(C53=\"[for completion]\",\"\",C53/$C$58))","v":0.8929468340051282}]
["G.3.3.2","Public Sector ",{"$f":"SUM([1]PivotLikPort!B19,[1]PivotLikPort!B21)/1000000","v":2969.0167999999999},null,null,{"$f":"IF($C$58=0,\"\",IF(C54=\"[for completion]\",\"\",C54/$C$58))","v":1.399304116210604E-2}]
["G.3.3.3","Shipping",0,null,null,{"$f":"IF($C$58=0,\"\",IF(C55=\"[for completion]\",\"\",C55/$C$58))","v":0}]
["G.3.3.4","Substitute Assets",{"$f":"SUM([1]PivotLikPort!B18,[1]PivotLikPort!B20)/1000000+[1]Kontoutskrift!E39/1000000","v":19745.319894206197},null,null,{"$f":"IF($C$58=0,\"\",IF(C56=\"[for completion]\",\"\",C56/$C$58))","v":9.3060124832765725E-2}]
["G.3.3.5","Other",0,null,null,{"$f":"IF($C$58=0,\"\",IF(C57=\"[for completion]\",\"\",C57/$C$58))","v":0}]
["G.3.3.6","Total",{"$f":"SUM(C53:C57)","v":212178.09378280598},null,null,{"$f":"SUM(F53:F57)","v":1}]
["OG.3.3.1","o/w [If relevant, please specify]",null,null,null,{"$f":"IF($C$58=0,\"\",IF(C59=\"[for completion]\",\"\",C59/$C$58))","v":0}]
["OG.3.3.2","o/w [If relevant, please specify]",null,null,null,0]
["OG.3.3.3","o/w [If relevant, please specify]",null,null,null,0]
["OG.3.3.4","o/w [If relevant, please specify]",null,null,null,0]
["OG.3.3.5","o/w [If relevant, please specify]",null,null,null,0]
["OG.3.3.6","o/w [If relevant, please specify]",null,null,null,0]
[null,"4. Cover Pool Amortisation Profile","Contractual (mn)","Expected Upon Prepayments (mn)",null,"% Total Contractual","% Total Expected Upon Prepayments"]
["G.3.4.1","Weighted Average life (in years)",{"$f":"SUMPRODUCT([1]Data!BI:BI,[1]Data!C:C)/SUM([1]Data!C:C)/12","v":21.365116127077552},"ND1"]
[]
[null,"By buckets:"]
["G.3.4.2","0 - 1 Y",{"$f":"-[1]Pivot!C5/1000000+[1]PivotLikPort!B5/1000000+[1]Kontoutskrift!E39/1000000","v":6835.7570892261965},"ND1",null,{"$f":"IF($C$76=0,\"\",IF(C69=\"[for completion]\",\"\",C69/$C$76))","v":3.2217072777661823E-2},{"$f":"IF($D$76=0,\"\",IF(D69=\"[Mark as ND1 if not relevant]\",\"\",D69/$D$76))","v":""}]
["G.3.4.3","1 - 2 Y",{"$f":"-[1]Pivot!C6/1000000+[1]PivotLikPort!B6/1000000","v":5783.8209902600001},"ND1",null,2.7259274919212765E-2,{"$f":"IF($D$76=0,\"\",IF(D70=\"[Mark as ND1 if not relevant]\",\"\",D70/$D$76))","v":""}]
["G.3.4.4","2 - 3 Y",{"$f":"-[1]Pivot!C7/1000000+[1]PivotLikPort!B7/1000000","v":4174.1834123099998},"ND1",null,1.9673017783743845E-2,""]
["G.3.4.5","3 - 4 Y",{"$f":"-[1]Pivot!C8/1000000+[1]PivotLikPort!B8/1000000","v":4257.5030355700001},"ND1",null,2.0065704991808264E-2,""]
["G.3.4.6","4 - 5 Y",{"$f":"-[1]Pivot!C9/1000000+[1]PivotLikPort!B9/1000000","v":2227.2674335299998},"ND1",null,1.0497160163055883E-2,""]
["G.3.4.7","5 - 10 Y",{"$f":"-[1]Pivot!C10/1000000+[1]PivotLikPort!B10/1000000","v":6420.7831170800027},"ND1",null,3.0261291364284727E-2,""]
["G.3.4.8","10+ Y",{"$f":"-[1]Pivot!C11/1000000+[1]PivotLikPort!B11/1000000","v":182478.77870482916},"ND1",null,0.86002647800023269,""]
["G.3.4.9","Total",{"$f":"SUM(C69:C75)","v":212178.09378280537},{"$f":"SUM(D69:D75)","v":0},null,{"$f":"SUM(F69:F75)","v":1}]
["OG.3.4.1","o/w 0-1 day",null,null,null,{"$f":"IF($C$76=0,\"\",IF(C77=\"[for completion]\",\"\",C77/$C$76))","v":0},{"$f":"IF($D$76=0,\"\",IF(D77=\"[for completion]\",\"\",D77/$D$76))","v":""}]
["OG.3.4.2","o/w 0-0.5y",null,null,null,{"$f":"IF($C$76=0,\"\",IF(C78=\"[for completion]\",\"\",C78/$C$76))","v":0},""]
["OG.3.4.3","o/w 0.5-1 y",null,null,null,0,""]
["OG.3.4.4","o/w 1-1.5y",null,null,null,0,""]
["OG.3.4.5","o/w 1.5-2 y",null,null,null,0,""]
["OG.3.4.6"]
["OG.3.4.7"]
["OG.3.4.8"]
["OG.3.4.9",null,null,null,null,0,""]
["OG.3.4.10",null,null,null,null,0,""]
[null,"5. Maturity of Covered Bonds","Initial Maturity  (mn)","Extended Maturity (mn)",null,"% Total Initial Maturity ","% Total Extended Maturity"]
["G.3.5.1","Weighted Average life (in years)",{"$f":"SUMPRODUCT([1]DataCB!K:K,[1]DataCB!N:N)/SUM([1]DataCB!N:N)","v":3.7852985292993493},{"$f":"SUMPRODUCT([1]DataCB!AD:AD,[1]DataCB!N:N)/SUM([1]DataCB!N:N)","v":4.7852985292993493}]
[]
["G.3.5.2","By buckets:"]
["G.3.5.3","0 - 1 Y",{"$f":"-[1]PivotCB!B6/1000000","v":28412.914000000001},0,null,{"$f":"IF($C$98=0,\"\",IF(C91=\"[for completion]\",\"\",C91/$C$98))","v":0.1437149258716536},{"$f":"IF($D$98=0,\"\",IF(D91=\"[Mark as ND1 if not relevant]\",\"\",D91/$D$98))","v":0}]
["G.3.5.4","1 - 2 Y",{"$f":"-[1]PivotCB!B7/1000000","v":28971.1168},{"$f":"-[1]PivotCB!E6/1000000","v":28412.914000000001},null,{"$f":"IF($C$98=0,\"\",IF(C92=\"[for completion]\",\"\",C92/$C$98))","v":0.14653836291944636},{"$f":"IF($D$98=0,\"\",IF(D92=\"[Mark as ND1 if not relevant]\",\"\",D92/$D$98))","v":0.1437149258716536}]
["G.3.5.5","2 - 3 Y",{"$f":"-[1]PivotCB!B8/1000000","v":33403.200117559994},{"$f":"-[1]PivotCB!E7/1000000","v":28971.1168},null,0.16895621578170919,0.14653836291944636]
["G.3.5.6","3 - 4 Y",{"$f":"-[1]PivotCB!B9/1000000","v":32932.050000000003},{"$f":"-[1]PivotCB!E8/1000000","v":33403.200117559994},null,0.16657309857593594,0.16895621578170919]
["G.3.5.7","4 - 5 Y",{"$f":"-[1]PivotCB!B10/1000000","v":21950.217400000001},{"$f":"-[1]PivotCB!E9/1000000","v":32932.050000000003},null,0.11102605901343598,0.16657309857593594]
["G.3.5.8","5 - 10 Y",{"$f":"-[1]PivotCB!B11/1000000","v":51791.294000000002},{"$f":"-[1]PivotCB!E10/1000000","v":61313.361400000002},null,0.26196475229562932,0.3101281758197314]
["G.3.5.9","10+ Y",{"$f":"-[1]PivotCB!B12/1000000","v":242.5},{"$f":"-[1]PivotCB!E11/1000000","v":12670.65},null,1.2265855421895832E-3,6.408922103152348E-2]
["G.3.5.10","Total",{"$f":"SUM(C91:C97)","v":197703.29231756},{"$f":"SUM(D91:D97)","v":197703.29231756},null,{"$f":"SUM(F91:F97)","v":1},{"$f":"SUM(G91:G97)","v":1}]
["OG.3.5.1","o/w 0-1 day",null,null,null,0,{"$f":"IF($D$98=0,\"\",IF(D99=\"[for completion]\",\"\",D99/$D$98))","v":0}]
["OG.3.5.2","o/w 0-0.5y",null,null,null,0,0]
["OG.3.5.3","o/w 0.5-1 y",null,null,null,0,0]
["OG.3.5.4","o/w 1-1.5y",null,null,null,0,0]
["OG.3.5.5","o/w 1.5-2 y",null,null,null,0,0]
["OG.3.5.6"]
["OG.3.5.7"]
["OG.3.5.8",null,null,null,null,0,0]
["OG.3.5.9",null,null,null,null,0,0]
["OG.3.5.10",null,null,null,null,0,0]
[null,"6. Covered Assets - Currency","Nominal [before hedging] (mn)","Nominal [after hedging] (mn)",null,"% Total [before]","% Total [after]"]
["G.3.6.1","EUR",{"$f":"[1]PivotLikPort!B45/1000000+[1]Kontoutskrift!E33/1000000","v":8207.6867542818327},{"$f":"[1]PivotLikPort!B45/1000000+[1]Kontoutskrift!E33/1000000","v":8207.6867542818327},null,{"$f":"IF($C$125=0,\"\",IF(C110=\"[for completion]\",\"\",C110/$C$125))","v":3.8818886296946471E-2},{"$f":"IF($D$125=0,\"\",IF(D110=\"[for completion]\",\"\",D110/$D$125))","v":3.8818886296946471E-2}]
["G.3.6.2"," USD",null,null,null,0,0]
["G.3.6.3"," GBP",null,null,null,0,0]
["G.3.6.4","NOK",{"$f":"C76-[1]PivotLikPort!B45/1000000-[1]Kontoutskrift!E32/1000000","v":203227.71331095538},{"$f":"C113","v":203227.71331095538},null,0.96118111370305348,0.96118111370305348]
["G.3.6.5"," CHF",null,null,null,0,0]
["G.3.6.6"," AUD",null,null,null,0,0]
["G.3.6.7"," CAD",null,null,null,0,0]
["G.3.6.8","BRL",null,null,null,0,0]
["G.3.6.9","CZK",null,null,null,0,0]
["G.3.6.10","DKK",null,null,null,0,0]
["G.3.6.11","HKD",null,null,null,0,0]
["G.3.6.12","KRW",null,null,null,0,0]
["G.3.6.13","SEK",null,null,null,0,0]
["G.3.6.14","SGD",null,null,null,0,0]
["G.3.6.15","Other",null,null,null,{"$f":"IF($C$125=0,\"\",IF(C124=\"[for completion]\",\"\",C124/$C$125))","v":0},{"$f":"IF($D$125=0,\"\",IF(D124=\"[for completion]\",\"\",D124/$D$125))","v":0}]
["G.3.6.16","Total",{"$f":"SUM(C110:C124)","v":211435.40006523722},{"$f":"SUM(D110:D124)","v":211435.40006523722},null,{"$f":"SUM(F110:F124)","v":1},{"$f":"SUM(G110:G124)","v":1}]
["OG.3.6.1","o/w [If relevant, please specify]",null,null,null,{"$f":"IF($C$125=0,\"\",IF(C126=\"[for completion]\",\"\",C126/$C$125))","v":0},{"$f":"IF($D$125=0,\"\",IF(D126=\"[for completion]\",\"\",D126/$D$125))","v":0}]
["OG.3.6.2","o/w [If relevant, please specify]",null,null,null,0,0]
["OG.3.6.3","o/w [If relevant, please specify]",null,null,null,0,0]
["OG.3.6.4","o/w [If relevant, please specify]",null,null,null,0,0]
["OG.3.6.5","o/w [If relevant, please specify]",null,null,null,0,0]
["OG.3.6.6","o/w [If relevant, please specify]",null,null,null,0,0]
["OG.3.6.7","o/w [If relevant, please specify]",null,null,null,0,0]
["OG.3.6.8","o/w [If relevant, please specify]",null,null,null,0,0]
["OG.3.6.9","o/w [If relevant, please specify]",null,null,null,0,0]
[null,"7. Covered Bonds - Currency ","Nominal [before hedging] (mn)","Nominal [after hedging] (mn)",null,"% Total [before]","% Total [after]"]
["G.3.7.1","EUR",{"$f":"-[1]PivotCB!B21/1000000","v":123846.62820000001},{"$f":"-[1]PivotCB!E21/1000000","v":8249.5031999999992},null,{"$f":"IF($C$151=0,\"\",IF(C136=\"[for completion]\",\"\",C136/$C$151))","v":0.62642673649092251},{"$f":"IF($D$151=0,\"\",IF(D136=\"[for completion]\",\"\",D136/$D$151))","v":4.1726686001512171E-2}]
["G.3.7.2"," USD",{"$f":"-[1]PivotCB!B25/1000000","v":6030.4139999999998},{"$f":"-[1]PivotCB!E25/1000000","v":0},null,{"$f":"IF($C$151=0,\"\",IF(C137=\"[for completion]\",\"\",C137/$C$151))","v":3.0502344848732585E-2},{"$f":"IF($D$151=0,\"\",IF(D137=\"[for completion]\",\"\",D137/$D$151))","v":0}]
["G.3.7.3"," GBP",{"$f":"-[1]PivotCB!B22/1000000","v":8133.5},{"$f":"-[1]PivotCB!E22/1000000","v":0},null,4.1139931989274119E-2,0]
["G.3.7.4","NOK",{"$f":"-[1]PivotCB!B23/1000000","v":59479},{"$f":"-[1]PivotCB!E23/1000000","v":189453.78911755999},null,0.30084982046966685,0.95827331399848781]
["G.3.7.5"," CHF",null,null,null,0,0]
["G.3.7.6"," AUD",null,null,null,0,0]
["G.3.7.7"," CAD",null,null,null,0,0]
["G.3.7.8","BRL",null,null,null,0,0]
["G.3.7.9","CZK",null,null,null,0,0]
["G.3.7.10","DKK",null,null,null,0,0]
["G.3.7.11","HKD",null,null,null,0,0]
["G.3.7.12","KRW",null,null,null,0,0]
["G.3.7.13","SEK",{"$f":"-[1]PivotCB!B24/1000000","v":213.75011756000001},{"$f":"-[1]PivotCB!E24/1000000","v":0},null,1.0811662014037927E-3,0]
["G.3.7.14","SGD",null,null,null,0,0]
["G.3.7.15","Other",null,null,null,0,0]
["G.3.7.16","Total",{"$f":"SUM(C136:C150)","v":197703.29231756003},{"$f":"SUM(D136:D150)","v":197703.29231756},null,1,{"$f":"SUM(G136:G150)","v":1}]
["OG.3.7.1","o/w [If relevant, please specify]",null,null,null,0,{"$f":"IF($D$151=0,\"\",IF(D152=\"[for completion]\",\"\",D152/$D$151))","v":0}]
["OG.3.7.2","o/w [If relevant, please specify]",null,null,null,0,0]
["OG.3.7.3","o/w [If relevant, please specify]",null,null,null,0,0]
["OG.3.7.4","o/w [If relevant, please specify]",null,null,null,0,0]
["OG.3.7.5","o/w [If relevant, please specify]",null,null,null,0,0]
["OG.3.7.6","o/w [If relevant, please specify]",null,null,null,0,0]
["OG.3.7.7","o/w [If relevant, please specify]",null,null,null,0,0]
["OG.3.7.8","o/w [If relevant, please specify]",null,null,null,0,0]
["OG.3.7.9","o/w [If relevant, please specify]",null,null,null,0,0]
[null,"8. Covered Bonds - Breakdown by interest rate ","Nominal (mn)",null,null,"% Covered Bonds"]
["G.3.8.1","Fixed coupon",{"$f":"-[1]PivotCB!B35/1000000","v":139224.93431755999},null,null,{"$f":"IF($C$165=0,\"\",IF(C162=\"[for completion]\",\"\",C162/$C$165))","v":0.7042115115307771}]
["G.3.8.2","Floating coupon",{"$f":"-[1]PivotCB!B36/1000000","v":58478.358},null,null,{"$f":"IF($C$165=0,\"\",IF(C163=\"[for completion]\",\"\",C163/$C$165))","v":0.2957884884692229}]
["G.3.8.3","Other",null,null,null,{"$f":"IF($C$165=0,\"\",IF(C164=\"[for completion]\",\"\",C164/$C$165))","v":0}]
["G.3.8.4","Total",{"$f":"SUM(C162:C164)","v":197703.29231756},null,null,{"$f":"SUM(F162:F164)","v":1}]
["OG.3.8.1","Fixed coupon after hedging",null,null,null,{"$f":"IF($C$168=0,\"\",IF(C166=\"[for completion]\",\"\",C166/$C$168))","v":0}]
["OG.3.8.2","Floating coupon after hedging",{"$f":"C151","v":197703.29231756003},null,null,{"$f":"IF($C$168=0,\"\",IF(C167=\"[for completion]\",\"\",C167/$C$168))","v":1}]
["OG.3.8.3","Total",{"$f":"SUM(C166:C167)","v":197703.29231756003},null,null,{"$f":"SUM(F166:F167)","v":1}]
["OG.3.8.4"]
["OG.3.8.5"]
[null,"9. Substitute Assets - Type","Nominal (mn)",null,null,"% Substitute Assets"]
["G.3.9.1","Cash",{"$f":"[1]Kontoutskrift!E39/1000000+SUM([1]PivotLikPort!B18)/1000000","v":392.09665420619694},null,null,{"$f":"IF($C$177=0,\"\",IF(C172=\"[for completion]\",\"\",C172/$C$177))","v":1.7262078108854047E-2}]
["G.3.9.2","Exposures to/guaranteed by governments or quasi governments",{"$f":"SUM([1]PivotLikPort!B19,[1]PivotLikPort!B21)/1000000","v":2969.0167999999999},null,null,{"$f":"IF($C$177=0,\"\",IF(C173=\"[for completion]\",\"\",C173/$C$177))","v":0.13071113807859133}]
["G.3.9.3","Exposures to central banks"]
["G.3.9.4","Exposures to credit institutions",{"$f":"[1]PivotLikPort!B20/1000000","v":19353.223239999999},null,null,{"$f":"IF($C$177=0,\"\",IF(C175=\"[for completion]\",\"\",C175/$C$177))","v":0.8520267838125547}]
["G.3.9.5","Other",null,null,null,0]
["G.3.9.6","Total",{"$f":"SUM(C172:C176)","v":22714.336694206195},null,null,{"$f":"SUM(F172:F176)","v":1}]
["OG.3.9.1","o/w EU gvts or quasi govts",null,null,null,0]
["OG.3.9.2","o/w third-party countries  Credit Quality Step 1 (CQS1) gvts or quasi govts",null,null,null,0]
["OG.3.9.3","o/w third-party countries Credit Quality Step 2 (CQS2) gvts or quasi govts",null,null,null,0]
["OG.3.9.4","o/w EU central banks",null,null,null,0]
["OG.3.9.5","o/w third-party countries Credit Quality Step 1 (CQS1) central banks",null,null,null,0]
["OG.3.9.6","o/w third-party countries Credit Quality Step 2 (CQS2) central banks",null,null,null,0]
["OG.3.9.7","o/w CQS1 credit institutions",null,null,null,0]
["OG.3.9.8","o/w CQS2 credit institutions",null,null,null,0]
["OG.3.9.9"]
["OG.3.9.10"]
["OG.3.9.11"]
["OG.3.9.12",null,null,null,null,{"$f":"IF($C$177=0,\"\",IF(C189=\"[for completion]\",\"\",C189/$C$177))","v":0}]
[null,"10. Substitute Assets - Country","Nominal (mn)",null,null,"% Substitute Assets"]
["G.3.10.1","Domestic (Country of Issuer)",{"$f":"[1]PivotLikPort!B35/1000000+[1]Kontoutskrift!E39/1000000","v":13086.214994206197},null,null,{"$f":"IF($C$206=0,\"\",IF(C191=\"[for completion]\",\"\",C191/$C$206))","v":0.57612137965464472}]
["G.3.10.2","Eurozone",{"$f":"[1]PivotLikPort!B36/1000000","v":2989.9512},null,null,0.13163277626163983]
["G.3.10.3","Rest of European Union (EU)",{"$f":"[1]PivotLikPort!B37/1000000","v":6638.1705000000002},null,null,0.2922458440837154]
["G.3.10.4","European Economic Area (not member of EU)",0,null,null,0]
["G.3.10.5","Switzerland",0,null,null,0]
["G.3.10.6","Australia",0,null,null,0]
["G.3.10.7","Brazil",0,null,null,0]
["G.3.10.8","Canada",0,null,null,0]
["G.3.10.9","Japan",0,null,null,0]
["G.3.10.10","Korea",0,null,null,0]
["G.3.10.11","New Zealand",0,null,null,0]
["G.3.10.12","Singapore",0,null,null,0]
["G.3.10.13","US",0,null,null,0]
["G.3.10.14","Other",0,null,null,0]
["G.3.10.15","Total EU","[For completion]"]
["G.3.10.16","Total",{"$f":"SUM(C191:C204)","v":22714.336694206198},null,null,{"$f":"SUM(F191:F204)","v":1}]
["OG.3.10.1","o/w [If relevant, please specify]",null,null,null,{"$f":"IF($C$206=0,\"\",IF(C207=\"[for completion]\",\"\",C207/$C$206))","v":0}]
["OG.3.10.2","o/w [If relevant, please specify]",null,null,null,{"$f":"IF($C$206=0,\"\",IF(C208=\"[for completion]\",\"\",C208/$C$206))","v":0}]
["OG.3.10.3","o/w [If relevant, please specify]",null,null,null,0]
["OG.3.10.4","o/w [If relevant, please specify]",null,null,null,0]
["OG.3.10.5","o/w [If relevant, please specify]",null,null,null,0]
["OG.3.10.6","o/w [If relevant, please specify]",null,null,null,0]
["OG.3.10.7","o/w [If relevant, please specify]",null,null,null,0]
[null,"11. Liquid Assets ","Nominal (mn)",null,null,"% Cover Pool","% Covered Bonds"]
["G.3.11.1","Substitute and other marketable assets","[For completion]",null,null,{"$f":"IF($C$218=0,\"\",IF(C215=\"[for completion]\",\"\",C215/$C$218))","v":""},{"$f":"IF($C$218=0,\"\",IF(C215=\"[for completion]\",\"\",C215/$C$218))","v":""}]
["G.3.11.2","Central bank eligible assets","[For completion]",null,null,{"$f":"IF($C$218=0,\"\",IF(C216=\"[for completion]\",\"\",C216/$C$218))","v":""},{"$f":"IF($C$218=0,\"\",IF(C216=\"[for completion]\",\"\",C216/$C$218))","v":""}]
["G.3.11.3","Other","[For completion]",null,null,"",""]
["G.3.11.4","Total",{"$f":"SUM(C215:C217)","v":0},null,null,{"$f":"SUM(F215:F217)","v":0},{"$f":"SUM(G215:G217)","v":0}]
["OG.3.11.1","o/w [If relevant, please specify]",null,null,null,"",""]
["OG.3.11.2","o/w [If relevant, please specify]",null,null,null,"",""]
["OG.3.11.3","o/w [If relevant, please specify]",null,null,null,"",""]
["OG.3.11.4","o/w [If relevant, please specify]",null,null,null,"",""]
["OG.3.11.5","o/w [If relevant, please specify]",null,null,null,"",""]
["OG.3.11.6","o/w [If relevant, please specify]",null,null,null,"",""]
["OG.3.11.7","o/w [If relevant, please specify]",null,null,null,"",""]
[null,"12. Bond List "]
["G.3.12.1","Bond list ","Covered Bond Label"]
[null,"13. Derivatives & Swaps"]
["G.3.13.1","Derivatives in the cover pool [notional] (mn)","ND2"]
["G.3.13.2","Type of interest rate swaps (intra-group, external or both)","external"]
["G.3.13.3","Type of currency rate swaps (intra-group, external or both)","external"]
["OG.3.13.1","NPV of Derivatives in the cover pool (mn)"]
["OG.3.13.2","Derivatives outside the cover pool [notional] (mn)"]
["OG.3.13.3","NPV of Derivatives outside the cover pool (mn)"]
["OG.3.13.4"]
["OG.3.13.5"]
["OG.3.13.6"]
["OG.3.13.7"]
["OG.3.13.8"]
["OG.3.13.9"]
["OG.3.13.10"]
["OG.3.13.11"]
["OG.3.13.12"]
["OG.3.13.13"]
["OG.3.13.14"]
["OG.3.13.15"]
["OG.3.13.16"]
["OG.3.13.17"]
["OG.3.13.18"]
["OG.3.13.19"]
["OG.3.13.20"]
["OG.3.13.21"]
["OG.3.13.22"]
["OG.3.13.23"]
["OG.3.13.24"]
["OG.3.13.25"]
["OG.3.13.26"]
["OG.3.13.27"]
["OG.3.13.28"]
["OG.3.13.29"]
["OG.3.13.30"]
["OG.3.13.31"]
["OG.3.13.32"]
["OG.3.13.33"]
["OG.3.13.34"]
["OG.3.13.35"]
["OG.3.13.36"]
["OG.3.13.37"]
["OG.3.13.38"]
["OG.3.13.39"]
["OG.3.13.40"]
["OG.3.13.41"]
["OG.3.13.42"]
["OG.3.13.43"]
["OG.3.13.44"]
["OG.3.13.45"]
["OG.3.13.46"]
["OG.3.13.47"]
["OG.3.13.48"]
["OG.3.13.49"]
["OG.3.13.50"]
["OG.3.13.51"]
[null,"4. References to Capital Requirements Regulation (CRR) 129(7) ","Row","Row"]
["The issuer believes that, at the time of its issuance and based on transparency data made publicly available by the issuer, these covered bonds would satisfy the eligibility criteria for Article 129(7) of the Capital Requirements Regulation (EU) 648/2012. It should be noted, however, that"]
["whether or not exposures in the form of covered bonds are eligible to preferential treatment under Regulation (EU) 648/2012 is ultimately a matter to be determined by a relevant investor institution and its relevant supervisory authority and the issuer does not accept any responsibility in this regard."]
["G.4.1.1","(i)         Value of the cover pool outstanding covered bonds: ",{"$f":"ROW(B38)","v":38}]
["G.4.1.2","(i)         Value of covered bonds: ",{"$f":"ROW(B39)","v":39}]
["G.4.1.3","(ii)        Geographical distribution: ",{"$f":"ROW('[1]B1. HTT Mortgage Assets'!B43)& \" for Mortgage Assets\"","v":"43 for Mortgage Assets"}]
["G.4.1.4","(ii)        Type of cover assets:",{"$f":"ROW(B52)","v":52}]
["G.4.1.5","(ii)        Loan size: ",{"$f":"ROW('[1]B1. HTT Mortgage Assets'!B167)&\" for Residential Mortgage Assets\"","v":"167 for Residential Mortgage Assets"}]
["G.4.1.6","            (ii)        Interest rate risk - cover pool:",{"$f":"ROW('[1]B1. HTT Mortgage Assets'!B130)&\" for Mortgage Assets\"","v":"130 for Mortgage Assets"}]
["G.4.1.7","(ii)        Currency risk - cover pool:",{"$f":"ROW(B109)","v":109}]
["G.4.1.8","          (ii)         Interest rate risk - covered bond:",{"$f":"ROW(B161)","v":161}]
["G.4.1.9","(ii)        Currency risk - covered bond:",{"$f":"ROW(B135)","v":135}]
["G.4.1.10","(Please refer to \"Tab D. HTT Harmonised Glossary\" for hedging strategy)",{"$f":"ROW('[2]C. HTT Harmonised Glossary'!B17)&\" for Harmonised Glossary\"","v":"17 for Harmonised Glossary"}]
["G.4.1.11","(iii)        Maturity structure of cover assets: ",{"$f":"ROW(B65)","v":65}]
["G.4.1.12","(iii)        Maturity structure of covered bonds: ",{"$f":"ROW(B87)","v":87}]
["G.4.1.13","(iv)        Percentage of loans more than ninety days past due:",{"$f":"ROW('[1]B1. HTT Mortgage Assets'!B160)& \" for Mortgage Assets\"","v":"160 for Mortgage Assets"}]
["OG.4.1.1"]
["OG.4.1.2"]
["OG.4.1.3"]
["OG.4.1.4"]
["OG.4.1.5"]
["OG.4.1.6"]
["OG.4.1.7"]
["OG.4.1.8"]
["OG.4.1.9"]
["OG.4.1.10"]
[null,"5. References to Capital Requirements Regulation (CRR) 129(1)"]
["G.5.1.1","Exposure to credit institute credit quality step 1 & 2",{"$f":"ROW(B171)","v":171}]
["OG.5.1.1"]
["OG.5.1.2"]
["OG.5.1.3"]
["OG.5.1.4"]
["OG.5.1.5"]
["OG.5.1.6"]
[null,"6. Other relevant information"]
[null,"1. Optional information e.g. Rating triggers"]
["OG.6.1.1","NPV Test (passed/failed)"]
["OG.6.1.2","Interest Covereage Test (passe/failed)"]
["OG.6.1.3","Cash Manager "]
["OG.6.1.4","Account Bank"]
["OG.6.1.5","Stand-by Account Bank"]
["OG.6.1.6","Servicer "]
["OG.6.1.7","Interest Rate Swap Provider "]
["OG.6.1.8","Covered Bond Swap Provider "]
["OG.6.1.9","Paying Agent"]
["OG.6.1.10","Other optional/relevant information"]
["OG.6.1.11","Other optional/relevant information"]
["OG.6.1.12","Other optional/relevant information"]
["OG.6.1.13","Other optional/relevant information"]
["OG.6.1.14","Other optional/relevant information"]
["OG.6.1.15","Other optional/relevant information"]
["OG.6.1.16","Other optional/relevant information"]
["OG.6.1.17","Other optional/relevant information"]
["OG.6.1.18","Other optional/relevant information"]
["OG.6.1.19","Other optional/relevant information"]
["OG.6.1.20","Other optional/relevant information"]
["OG.6.1.21","Other optional/relevant information"]
["OG.6.1.22","Other optional/relevant information"]
["OG.6.1.23","Other optional/relevant information"]
["OG.6.1.24","Other optional/relevant information"]
["OG.6.1.25","Other optional/relevant information"]
["OG.6.1.26","Other optional/relevant information"]
["OG.6.1.27","Other optional/relevant information"]
["OG.6.1.28","Other optional/relevant information"]
["OG.6.1.29","Other optional/relevant information"]
["OG.6.1.30","Other optional/relevant information"]
["OG.6.1.31","Other optional/relevant information"]
["OG.6.1.32","Other optional/relevant information"]
["OG.6.1.33","Other optional/relevant information"]
["OG.6.1.34","Other optional/relevant information"]
["OG.6.1.35","Other optional/relevant information"]
["OG.6.1.36","Other optional/relevant information"]
["OG.6.1.37","Other optional/relevant information"]
["OG.6.1.38","Other optional/relevant information"]
["OG.6.1.39","Other optional/relevant information"]
["OG.6.1.40","Other optional/relevant information"]
["OG.6.1.41","Other optional/relevant information"]
["OG.6.1.42","Other optional/relevant information"]
["OG.6.1.43","Other optional/relevant information"]
["OG.6.1.44","Other optional/relevant information"]
["OG.6.1.45","Other optional/relevant information"]

{"sheet":"B1. HTT Mortgage Assets","index":1,"n_rows":367,"n_cols":7,"rows_kept":367,"cut":false,"hidden":false,"merged":[]}
["B1. Harmonised Transparency Template - Mortgage Assets",null,null,null,null,"HTT 2019"]
[]
[null,"Reporting in Domestic Currency","NOK"]
[]
[null,"CONTENT OF TAB B1"]
[null,"7. Mortgage Assets"]
[null,"7.A Residential Cover Pool"]
[null,"7.B Commercial Cover Pool"]
[]
["Field Number","7. Mortgage Assets"]
[null,"1. Property Type Information","Nominal (mn)",null,null,"% Total Mortgages"]
["M.7.1.1","Residential",{"$f":"'[1]A. HTT General'!C53","v":189463.75708859978},null,null,{"$f":"IF($C$15=0,\"\",IF(C12=\"[for completion]\",\"\",C12/$C$15))","v":1}]
["M.7.1.2","Commercial",0,null,null,{"$f":"IF($C$15=0,\"\",IF(C13=\"[for completion]\",\"\",C13/$C$15))","v":0}]
["M.7.1.3","Other",0,null,null,{"$f":"IF($C$15=0,\"\",IF(C14=\"[for completion]\",\"\",C14/$C$15))","v":0}]
["M.7.1.4","Total",{"$f":"SUM(C12:C14)","v":189463.75708859978},null,null,{"$f":"SUM(F12:F14)","v":1}]
["OM.7.1.1","o/w Housing Cooperatives / Multi-family assets",0,null,null,{"$f":"IF($C$15=0,\"\",IF(C16=\"[for completion]\",\"\",C16/$C$15))","v":0}]
["OM.7.1.2","o/w Forest & Agriculture",null,null,null,0]
["OM.7.1.3","o/w [If relevant, please specify]",null,null,null,0]
["OM.7.1.4","o/w [If relevant, please specify]",null,null,null,0]
["OM.7.1.5","o/w [If relevant, please specify]",null,null,null,0]
["OM.7.1.6","o/w [If relevant, please specify]",null,null,null,0]
["OM.7.1.7","o/w [If relevant, please specify]",null,null,null,0]
["OM.7.1.8","o/w [If relevant, please specify]",null,null,null,0]
["OM.7.1.9","o/w [If relevant, please specify]",null,null,null,0]
["OM.7.1.10","o/w [If relevant, please specify]",null,null,null,0]
["OM.7.1.11","o/w [If relevant, please specify]",null,null,null,0]
[null,"2. General Information","Residential Loans","Commercial Loans",null,"Total Mortgages"]
["M.7.2.1","Number of mortgage loans",{"$f":"[1]Pivot!B12","v":131564},0,null,{"$f":"C28","v":131564}]
["OM.7.2.1","Optional information eg, Number of borrowers",null,0]
["OM.7.2.2","Optional information eg, Number of guarantors"]
["OM.7.2.3"]
["OM.7.2.4"]
["OM.7.2.5"]
["OM.7.2.6"]
[null,"3. Concentration Risks","% Residential Loans","% Commercial Loans",null,"% Total Mortgages"]
["M.7.3.1","10 largest exposures ",{"$f":"-[1]Pivot!B117/1000000/C15","v":7.5780649289488384E-4},0,null,{"$f":"C36","v":7.5780649289488384E-4}]
["OM.7.3.1","10 largest exposures excl. housing cooperatives",{"$f":"C36","v":7.5780649289488384E-4},0,null,{"$f":"C37","v":7.5780649289488384E-4}]
["OM.7.3.2"]
["OM.7.3.3"]
["OM.7.3.4"]
["OM.7.3.5"]
["OM.7.3.6"]
[null,"4. Breakdown by Geography ","% Residential Loans","% Commercial Loans",null,"% Total Mortgages"]
["M.7.4.1","European Union",{"$f":"SUM(C45:C72)","v":0},{"$f":"SUM(D45:D72)","v":0},null,{"$f":"SUM(F45:F72)","v":0}]
["M.7.4.2","Austria",0,0,null,0]
["M.7.4.3","Belgium",0,0,null,0]
["M.7.4.4","Bulgaria",0,0,null,0]
["M.7.4.5","Croatia",0,0,null,0]
["M.7.4.6","Cyprus",0,0,null,0]
["M.7.4.7","Czech Republic",0,0,null,0]
["M.7.4.8","Denmark",0,0,null,0]
["M.7.4.9","Estonia",0,0,null,0]
["M.7.4.10","Finland",0,0,null,0]
["M.7.4.11","France",0,0,null,0]
["M.7.4.12","Germany",0,0,null,0]
["M.7.4.13","Greece",0,0,null,0]
["M.7.4.14","Netherlands",0,0,null,0]
["M.7.4.15","Hungary",0,0,null,0]
["M.7.4.16","Ireland",0,0,null,0]
["M.7.4.17","Italy",0,0,null,0]
["M.7.4.18","Latvia",0,0,null,0]
["M.7.4.19","Lithuania",0,0,null,0]
["M.7.4.20","Luxembourg",0,0,null,0]
["M.7.4.21","Malta",0,0,null,0]
["M.7.4.22","Poland",0,0,null,0]
["M.7.4.23","Portugal",0,0,null,0]
["M.7.4.24","Romania",0,0,null,0]
["M.7.4.25","Slovakia",0,0,null,0]
["M.7.4.26","Slovenia",0,0,null,0]
["M.7.4.27","Spain",0,0,null,0]
["M.7.4.28","Sweden",0,0,null,0]
["M.7.4.29","United Kingdom",0,0,null,0]
["M.7.4.30","European Economic Area (not member of EU)",{"$f":"SUM(C74:C76)","v":1},{"$f":"SUM(D74:D76)","v":0},null,{"$f":"SUM(F74:F76)","v":1}]
["M.7.4.31","Iceland",0,0,null,0]
["M.7.4.32","Liechtenstein",0,0,null,0]
["M.7.4.33","Norway",1,0,null,1]
["M.7.4.34","Other",{"$f":"SUM(C78:C87)","v":0},0,null,0]
["M.7.4.35","Switzerland",0,0,null,0]
["M.7.4.36","Australia",0,0,null,0]
["M.7.4.37","Brazil",0,0,null,0]
["M.7.4.38","Canada",0,0,null,0]
["M.7.4.39","Japan",0,0,null,0]
["M.7.4.40","Korea",0,0,null,0]
["M.7.4.41","New Zealand",0,0,null,0]
["M.7.4.42","Singapore",0,0,null,0]
["M.7.4.43","US",0,0,null,0]
["M.7.4.44","Other",0,0,null,0]
["OM.7.4.1","o/w [If relevant, please specify]"]
["OM.7.4.2","o/w [If relevant, please specify]"]
["OM.7.4.3","o/w [If relevant, please specify]"]
["OM.7.4.4","o/w [If relevant, please specify]"]
["OM.7.4.5","o/w [If relevant, please specify]"]
["OM.7.4.6","o/w [If relevant, please specify]"]
["OM.7.4.7","o/w [If relevant, please specify]"]
["OM.7.4.8","o/w [If relevant, please specify]"]
["OM.7.4.9","o/w [If relevant, please specify]"]
["OM.7.4.10","o/w [If relevant, please specify]"]
[null,"5. Breakdown by domestic regions","% Residential Loans","% Commercial Loans",null,"% Total Mortgages"]
["M.7.5.1","Østfold",{"$f":"-[1]Pivot!C16/1000000/'[1]B1. HTT Mortgage Assets'!$C$12","v":4.0117571331785569E-2},0,null,{"$f":"C99","v":4.0117571331785569E-2}]
["M.7.5.2","Akershus",{"$f":"-[1]Pivot!C17/1000000/'[1]B1. HTT Mortgage Assets'!$C$12","v":0.12328712296229177},0,null,{"$f":"C100","v":0.12328712296229177}]
["M.7.5.3","Oslo",{"$f":"-[1]Pivot!C18/1000000/'[1]B1. HTT Mortgage Assets'!$C$12","v":0.13084301624102887},0,null,0.13084301624102887]
["M.7.5.4","Hedmark",{"$f":"-[1]Pivot!C19/1000000/'[1]B1. HTT Mortgage Assets'!$C$12","v":7.2985706756165891E-2},0,null,7.2985706756165891E-2]
["M.7.5.5","Oppland",{"$f":"-[1]Pivot!C20/1000000/'[1]B1. HTT Mortgage Assets'!$C$12","v":3.5999682929492613E-2},0,null,3.5999682929492613E-2]
["M.7.5.6","Buskerud",{"$f":"-[1]Pivot!C21/1000000/'[1]B1. HTT Mortgage Assets'!$C$12","v":7.0243126225383937E-2},0,null,7.0243126225383937E-2]
["M.7.5.7","Vestfold",{"$f":"-[1]Pivot!C22/1000000/'[1]B1. HTT Mortgage Assets'!$C$12","v":4.3980934249832765E-2},0,null,4.3980934249832765E-2]
["M.7.5.8","Telemark",{"$f":"-[1]Pivot!C23/1000000/'[1]B1. HTT Mortgage Assets'!$C$12","v":3.9724152054899112E-2},0,null,3.9724152054899112E-2]
["M.7.5.9","Aust-Agder",{"$f":"-[1]Pivot!C24/1000000/'[1]B1. HTT Mortgage Assets'!$C$12","v":1.6946525908902678E-3},0,null,1.6946525908902678E-3]
["M.7.5.10","Vest-Agder",{"$f":"-[1]Pivot!C25/1000000/'[1]B1. HTT Mortgage Assets'!$C$12","v":3.7543230196124947E-3},0,null,3.7543230196124947E-3]
["M.7.5.11","Rogaland",{"$f":"-[1]Pivot!C26/1000000/'[1]B1. HTT Mortgage Assets'!$C$12","v":3.2409679307839938E-2},0,null,3.2409679307839938E-2]
["M.7.5.12","Hordaland",{"$f":"-[1]Pivot!C27/1000000/'[1]B1. HTT Mortgage Assets'!$C$12","v":1.0694697567685475E-2},0,null,1.0694697567685475E-2]
["M.7.5.13","Sogn og Fjordane",{"$f":"-[1]Pivot!C28/1000000/'[1]B1. HTT Mortgage Assets'!$C$12","v":2.0245987584349497E-3},0,null,2.0245987584349497E-3]
["M.7.5.14","Møre og Romsdal",{"$f":"-[1]Pivot!C29/1000000/'[1]B1. HTT Mortgage Assets'!$C$12","v":5.8406330619872708E-2},0,null,5.8406330619872708E-2]
["M.7.5.15","Trøndelag",{"$f":"-[1]Pivot!C30/1000000/'[1]B1. HTT Mortgage Assets'!$C$12","v":0.16465092073673984},0,null,0.16465092073673984]
["M.7.5.16","Nordland",{"$f":"-[1]Pivot!C31/1000000/'[1]B1. HTT Mortgage Assets'!$C$12","v":7.0856174957631399E-2},0,null,7.0856174957631399E-2]
["M.7.5.17","Troms",{"$f":"-[1]Pivot!C32/1000000/'[1]B1. HTT Mortgage Assets'!$C$12","v":6.5779440576552869E-2},0,null,6.5779440576552869E-2]
["M.7.5.18","Finmark",{"$f":"-[1]Pivot!C33/1000000/'[1]B1. HTT Mortgage Assets'!$C$12","v":3.2310684413786234E-2},0,null,3.2310684413786234E-2]
["M.7.5.19","Svalbard",{"$f":"-[1]Pivot!C34/1000000/'[1]B1. HTT Mortgage Assets'!$C$12","v":2.3718470007424948E-4},0,null,2.3718470007424948E-4]
["M.7.5.20",null,{"$f":"-[1]Pivot!C35/1000000/'[1]B1. HTT Mortgage Assets'!$C$12","v":0.99999999999999156},0,null,0.99999999999999156]
["M.7.5.21","TBC at a country level","[For completion]","[For completion]",null,"[For completion]"]
["M.7.5.22","TBC at a country level","[For completion]","[For completion]",null,"[For completion]"]
["M.7.5.23","TBC at a country level","[For completion]","[For completion]",null,"[For completion]"]
["M.7.5.24","TBC at a country level","[For completion]","[For completion]",null,"[For completion]"]
["M.7.5.25","TBC at a country level","[For completion]","[For completion]",null,"[For completion]"]
["M.7.5.26","TBC at a country level","[For completion]","[For completion]",null,"[For completion]"]
["M.7.5.27","TBC at a country level","[For completion]","[For completion]",null,"[For completion]"]
["M.7.5.28","TBC at a country level","[For completion]","[For completion]",null,"[For completion]"]
["M.7.5.29","TBC at a country level","[For completion]","[For completion]",null,"[For completion]"]
["M.7.5.30","TBC at a country level","[For completion]","[For completion]",null,"[For completion]"]
["M.7.5.31","TBC at a country level","[For completion]","[For completion]",null,"[For completion]"]
[null,"6. Breakdown by Interest Rate","% Residential Loans","% Commercial Loans",null,"% Total Mortgages"]
["M.7.6.1","Fixed rate",0,0,null,0]
["M.7.6.2","Floating rate",1,0,null,1]
["M.7.6.3","Other",0,0,null,0]
["OM.7.6.1"]
["OM.7.6.2"]
["OM.7.6.3"]
["OM.7.6.4"]
["OM.7.6.5"]
["OM.7.6.6"]
[null,"7. Breakdown by Repayment Type","% Residential Loans","% Commercial Loans",null,"% Total Mortgages"]
["M.7.7.1","Bullet / interest only",{"$f":"-[1]Pivot!C40/1000000/$C$15","v":0.22842416014415654},0,null,{"$f":"C141","v":0.22842416014415654}]
["M.7.7.2","Amortising",{"$f":"-[1]Pivot!C41/1000000/$C$15","v":0.7715758398558431},0,null,{"$f":"C142","v":0.7715758398558431}]
["M.7.7.3","Other",0,0,null,0]
["OM.7.7.1",null,"[For completion]","[For completion]",null,"[For completion]"]
["OM.7.7.2"]
["OM.7.7.3"]
["OM.7.7.4"]
["OM.7.7.5"]
["OM.7.7.6"]
[null,"8. Loan Seasoning ","% Residential Loans","% Commercial Loans",null,"% Total Mortgages"]
["M.7.8.1","Up to 12months",{"$f":"-[1]Pivot!C46/1000000/$C$15","v":8.1828130459853807E-2},0,null,{"$f":"C151","v":8.1828130459853807E-2}]
["M.7.8.2","≥  12 - ≤ 24 months",{"$f":"-[1]Pivot!C47/1000000/$C$15","v":0.22917180139928017},0,null,{"$f":"C152","v":0.22917180139928017}]
["M.7.8.3","≥ 24 - ≤ 36 months",{"$f":"-[1]Pivot!C48/1000000/$C$15","v":0.20908748784182923},0,null,{"$f":"C153","v":0.20908748784182923}]
["M.7.8.4","≥ 36 - ≤ 60 months",{"$f":"-[1]Pivot!C49/1000000/$C$15","v":0.24621694812462308},0,null,{"$f":"C154","v":0.24621694812462308}]
["M.7.8.5","≥ 60 months",{"$f":"-[1]Pivot!C50/1000000/$C$15","v":0.23369563217441391},0,null,{"$f":"C155","v":0.23369563217441391}]
["OM.7.8.1"]
["OM.7.8.2"]
["OM.7.8.3"]
["OM.7.8.4"]
[null,"9. Non-Performing Loans (NPLs)","% Residential Loans","% Commercial Loans",null,"% Total Mortgages"]
["M.7.9.1","% NPLs",0,0,null,0]
["OM.7.9.1"]
["OM.7.9.2"]
["OM.7.9.3"]
["OM.7.9.4"]
[null,"7.A Residential Cover Pool"]
[null,"10. Loan Size Information","Nominal","Number of Loans",null,"% Residential Loans","% No. of Loans"]
["M.7A.10.1","Average loan size (000s)",{"$f":"-[1]Pivot!C35/[1]Pivot!B35/1000","v":1440.088147886946},{"$f":"[1]Pivot!B35","v":131564}]
[null,null,"",""]
[null,"By buckets (mn):","",""]
["M.7A.10.2","Private individuals",null,null,null,{"$f":"IF($C$195=0,\"\",IF(C171=\"[for completion]\",\"\",C171/$C$195))","v":0},{"$f":"IF($D$195=0,\"\",IF(D171=\"[for completion]\",\"\",D171/$D$195))","v":0}]
["M.7A.10.3"," ≤ 1,000,000",{"$f":"-[1]Pivot!C57/1000000","v":28699.055163240042},{"$f":"[1]Pivot!B57","v":54450},null,0.15147517184418202,0.41386701529293729]
["M.7A.10.4"," > 1,000,000 ≤ 2,000,000",{"$f":"-[1]Pivot!C58/1000000","v":67491.886848889946},{"$f":"[1]Pivot!B58","v":46015},null,0.35622584438314681,0.34975373202395793]
["M.7A.10.5"," > 2,000,000 ≤ 3,000,000",{"$f":"-[1]Pivot!C59/1000000","v":49547.055658909987},{"$f":"[1]Pivot!B59","v":20442},null,0.26151205074931572,0.15537685081025204]
["M.7A.10.6"," > 3,000,000 ≤ 4,000,000",{"$f":"-[1]Pivot!C60/1000000","v":23167.405055020012},{"$f":"[1]Pivot!B60","v":6765},null,0.12227882214003657,5.1419841293970994E-2]
["M.7A.10.7"," > 4,000,000 ≤ 5,000,000",{"$f":"-[1]Pivot!C61/1000000","v":10090.76039449},{"$f":"[1]Pivot!B61","v":2280},null,5.3259581407810896E-2,1.7329968684442552E-2]
["M.7A.10.8"," > 5,000,000",{"$f":"-[1]Pivot!C62/1000000","v":10467.593968050005},{"$f":"[1]Pivot!B62","v":1612},null,5.5248529475508006E-2,1.2252591894439209E-2]
["M.7A.10.9",null,null,null,null,0,0]
["M.7A.10.10","Housing cooperatives",null,null,null,0,0]
["M.7A.10.11"," ≤ 5,000,000",0,0,null,0,0]
["M.7A.10.12"," > 5,000,000 ≤ 10,000,000",0,0,null,0,0]
["M.7A.10.13"," > 10,000,000 ≤ 20,000,000",0,0,null,0,0]
["M.7A.10.14"," > 20,000,000 ≤ 50,000,000",0,0,null,0,0]
["M.7A.10.15"," > 50,000,000 ≤ 100,000,000",0,0,null,0,0]
["M.7A.10.16"," > 100,000,000",0,0,null,0,0]
["M.7A.10.17","TBC at a country level","[For completion]","[For completion]",null,"",""]
["M.7A.10.18","TBC at a country level","[For completion]","[For completion]",null,"",""]
["M.7A.10.19","TBC at a country level","[For completion]","[For completion]",null,"",""]
["M.7A.10.20","TBC at a country level","[For completion]","[For completion]",null,"",""]
["M.7A.10.21","TBC at a country level","[For completion]","[For completion]",null,"",""]
["M.7A.10.22","TBC at a country level","[For completion]","[For completion]",null,"",""]
["M.7A.10.23","TBC at a country level","[For completion]","[For completion]",null,"",""]
["M.7A.10.24","TBC at a country level","[For completion]","[For completion]",null,"",""]
["M.7A.10.25","TBC at a country level","[For completion]","[For completion]",null,"",""]
["M.7A.10.26","Total",{"$f":"SUM(C171:C194)","v":189463.75708859999},{"$f":"SUM(D171:D194)","v":131564},null,{"$f":"SUM(F171:F194)","v":0.99999999999999989},{"$f":"SUM(G171:G194)","v":1}]
[null,"11. Loan to Value (LTV) Information - UNINDEXED","Nominal","Number of Loans",null,"% Residential Loans","% No. of Loans"]
["M.7A.11.1","Weighted Average LTV (%)",{"$f":"SUMPRODUCT([1]Data!AZ:AZ,[1]Data!C:C)/SUM([1]Data!C:C)","v":0.59646367353540974},{"$f":"D168","v":131564}]
[]
[null,"By LTV buckets (mn):"]
["M.7A.11.2",">0 - <=40 %",{"$f":"-[1]Pivot!C68/1000000","v":22675.97709998997},{"$f":"[1]Pivot!B68","v":31646},null,{"$f":"IF($C$208=0,\"\",IF(C200=\"[for completion]\",\"\",C200/$C$208))","v":0.11968503870313252},{"$f":"IF($D$208=0,\"\",IF(D200=\"[for completion]\",\"\",D200/$D$208))","v":0.24053692499467941}]
["M.7A.11.3",">40 - <=50 %",{"$f":"-[1]Pivot!C69/1000000","v":19676.807265869997},{"$f":"[1]Pivot!B69","v":15464},null,0.10385525742883077,0.1175397525158858]
["M.7A.11.4",">50 - <=60 %",{"$f":"-[1]Pivot!C70/1000000","v":47615.346895449926},{"$f":"[1]Pivot!B70","v":29834},null,0.25131638698151293,0.22676416040862241]
["M.7A.11.5",">60 - <=70 %",{"$f":"-[1]Pivot!C71/1000000","v":46769.924536179955},{"$f":"[1]Pivot!B71","v":27176},null,0.24685420185301568,0.20656106533702229]
["M.7A.11.6",">70 - <=80 %",{"$f":"-[1]Pivot!C72/1000000","v":52725.701291110003},{"$f":"[1]Pivot!B72","v":27444},null,0.27828911503350812,0.2085980967437901]
["M.7A.11.7",">80 - <=90 %",0,0,null,0,0]
["M.7A.11.8",">90 - <=100 %",0,0,null,0,0]
["M.7A.11.9",">100%",0,0,null,0,0]
["M.7A.11.10","Total",{"$f":"SUM(C200:C207)","v":189463.75708859984},{"$f":"SUM(D200:D207)","v":131564},null,{"$f":"SUM(F200:F207)","v":1},{"$f":"SUM(G200:G207)","v":1}]
["OM.7A.11.1","o/w >100 - <=110 %",null,null,null,0,0]
["OM.7A.11.2","o/w >110 - <=120 %",null,null,null,0,0]
["OM.7A.11.3","o/w >120 - <=130 %",null,null,null,0,0]
["OM.7A.11.4","o/w >130 - <=140 %",null,null,null,0,0]
["OM.7A.11.5","o/w >140 - <=150 %",null,null,null,0,0]
["OM.7A.11.6","o/w >150 %",null,null,null,0,0]
["OM.7A.11.7"]
["OM.7A.11.8"]
["OM.7A.11.9"]
[null,"12. Loan to Value (LTV) Information - INDEXED ","Nominal","Number of Loans",null,"% Residential Loans","% No. of Loans"]
["M.7A.12.1","Weighted Average LTV (%)",{"$f":"SUMPRODUCT([1]Data!BC:BC,[1]Data!C:C)/SUM([1]Data!C:C)","v":0.52131338879341005},{"$f":"D197","v":131564}]
[]
[null,"By LTV buckets (mn):"]
["M.7A.12.2",">0 - <=40 %",{"$f":"-[1]Pivot!C82/1000000","v":47000.910290250009},{"$f":"[1]Pivot!B82","v":55443},"",{"$f":"IF($C$230=0,\"\",IF(C222=\"[for completion]\",\"\",C222/$C$230))","v":0.24807335720821114},{"$f":"IF($D$230=0,\"\",IF(D222=\"[for completion]\",\"\",D222/$D$230))","v":0.42141467270681948}]
["M.7A.12.3",">40 - <=50 %",{"$f":"-[1]Pivot!C83/1000000","v":33509.037908210026},{"$f":"[1]Pivot!B83","v":21698},"",{"$f":"IF($C$230=0,\"\",IF(C223=\"[for completion]\",\"\",C223/$C$230))","v":0.17686252201015948},{"$f":"IF($D$230=0,\"\",IF(D223=\"[for completion]\",\"\",D223/$D$230))","v":0.16492353531361162}]
["M.7A.12.4",">50 - <=60 %",{"$f":"-[1]Pivot!C84/1000000","v":41606.999282239951},{"$f":"[1]Pivot!B84","v":22764},"",0.21960400195580962,0.17302605575993432]
["M.7A.12.5",">60 - <=70 %",{"$f":"-[1]Pivot!C85/1000000","v":34708.452203529981},{"$f":"[1]Pivot!B85","v":16968},"",0.1831930958030093,0.12897145115685141]
["M.7A.12.6",">70 - <=80 %",{"$f":"-[1]Pivot!C86/1000000","v":27029.141494560001},{"$f":"[1]Pivot!B86","v":12205},"",0.14266127680514756,9.2768538505974274E-2]
["M.7A.12.7",">80 - <=90 %",{"$f":"-[1]Pivot!C87/1000000","v":4257.5925444300001},{"$f":"[1]Pivot!B87","v":1902},"",2.2471804686312637E-2,1.4456842297284972E-2]
["M.7A.12.8",">90 - <=100 %",{"$f":"-[1]Pivot!C88/1000000","v":932.27934828999992},{"$f":"[1]Pivot!B88","v":407},"",4.9206210338900488E-3,3.0935514274421576E-3]
["M.7A.12.9",">100%",{"$f":"-[1]Pivot!C89/1000000","v":419.34401709000002},{"$f":"[1]Pivot!B89","v":177},"",2.2133204974601017E-3,1.3453528320817244E-3]
["M.7A.12.10","Total",{"$f":"SUM(C222:C229)","v":189463.75708859999},{"$f":"SUM(D222:D229)","v":131564},null,1,1]
["OM.7A.12.1","o/w >100 - <=110 %",null,null,null,0,0]
["OM.7A.12.2","o/w >110 - <=120 %",null,null,null,0,0]
["OM.7A.12.3","o/w >120 - <=130 %",null,null,null,0,0]
["OM.7A.12.4","o/w >130 - <=140 %",null,null,null,0,0]
["OM.7A.12.5","o/w >140 - <=150 %",null,null,null,0,0]
["OM.7A.12.6","o/w >150 %",null,null,null,0,0]
["OM.7A.12.7"]
["OM.7A.12.8"]
["OM.7A.12.9"]
[null,"13. Breakdown by type","% Residential Loans"]
["M.7A.13.1","Owner occupied",{"$f":"-SUM([1]Pivot!C99:C100,[1]Pivot!C102:C103)/1000000/$C$15","v":0.98927416376779931}]
["M.7A.13.2","Second home/Holiday houses",{"$f":"-SUM([1]Pivot!C101:C101)/1000000/$C$15","v":1.072583623220189E-2}]
["M.7A.13.3","Buy-to-let/Non-owner occupied",0]
["M.7A.13.4","Other",0]
["OM.7A.13.1","o/w Subsidised housing"]
["OM.7A.13.2","o/w Private rental"]
["OM.7A.13.3","o/w Multi-family housing "]
["OM.7A.13.4","o/w Buildings under construction "]
["OM.7A.13.5","o/w Buildings land"]
["OM.7A.13.6","o/w [If relevant, please specify]"]
["OM.7A.13.7","o/w [If relevant, please specify]"]
["OM.7A.13.8","o/w [If relevant, please specify]"]
["OM.7A.13.9","o/w [If relevant, please specify]"]
["OM.7A.13.10","o/w [If relevant, please specify]"]
["OM.7A.13.11","o/w [If relevant, please specify]"]
[null,"14. Loan by Ranking","% Residential Loans"]
["M.7A.14.1","1st lien",1]
["M.7A.14.2","Guaranteed",""]
["M.7A.14.3","Other"]
["OM.7A.14.1"]
["OM.7A.14.2"]
["OM.7A.14.3"]
["OM.7A.14.4"]
["OM.7A.14.5"]
["OM.7A.14.6"]
[null,"7B Commercial Cover Pool"]
[null,"15. Loan Size Information","Nominal","Number of Loans",null,"% Commercial Loans","% No. of Loans"]
["M.7B.15.1","Average loan size (000s)","[For completion]"]
[]
[null,"By buckets (mn):"]
["M.7B.15.2","≤ 10,000,000","[For completion]","[For completion]",null,{"$f":"IF($C$295=0,\"\",IF(C271=\"[for completion]\",\"\",C271/$C$295))","v":""},{"$f":"IF($D$295=0,\"\",IF(D271=\"[for completion]\",\"\",D271/$D$295))","v":""}]
["M.7B.15.3",">10,000,000 ≤ 30,000,000","[For completion]","[For completion]",null,"",""]
["M.7B.15.4",">30,000,000 ≤ 50,000,000","[For completion]","[For completion]",null,"",""]
["M.7B.15.5",">50,000,000 ≤ 100,000,000","[For completion]","[For completion]",null,"",""]
["M.7B.15.6",">100,000,000 ≤ 200,000,000","[For completion]","[For completion]",null,"",""]
["M.7B.15.7"," > 200,000,000 ≤ 500,000,000","[For completion]","[For completion]",null,"",""]
["M.7B.15.8"," > 500,000,000 ≤ 750,000,000","[For completion]","[For completion]",null,"",""]
["M.7B.15.9"," > 750,000,000 ≤ 1000,000,000","[For completion]","[For completion]",null,"",""]
["M.7B.15.10"," > 1000,000,000","[For completion]","[For completion]",null,"",""]
["M.7B.15.11","TBC at a country level","[For completion]","[For completion]",null,"",""]
["M.7B.15.12","TBC at a country level","[For completion]","[For completion]",null,"",""]
["M.7B.15.13","TBC at a country level","[For completion]","[For completion]",null,"",""]
["M.7B.15.14","TBC at a country level","[For completion]","[For completion]",null,"",""]
["M.7B.15.15","TBC at a country level","[For completion]","[For completion]",null,"",""]
["M.7B.15.16","TBC at a country level","[For completion]","[For completion]",null,"",""]
["M.7B.15.17","TBC at a country level","[For completion]","[For completion]",null,"",""]
["M.7B.15.18","TBC at a country level","[For completion]","[For completion]",null,"",""]
["M.7B.15.19","TBC at a country level","[For completion]","[For completion]",null,"",""]
["M.7B.15.20","TBC at a country level","[For completion]","[For completion]",null,"",""]
["M.7B.15.21","TBC at a country level","[For completion]","[For completion]",null,"",""]
["M.7B.15.22","TBC at a country level","[For completion]","[For completion]",null,"",""]
["M.7B.15.23","TBC at a country level","[For completion]","[For completion]",null,"",""]
["M.7B.15.24","TBC at a country level","[For completion]","[For completion]",null,"",""]
["M.7B.15.25","TBC at a country level","[For completion]","[For completion]",null,"",""]
["M.7B.15.26","Total",{"$f":"SUM(C271:C294)","v":0},{"$f":"SUM(D271:D294)","v":0},null,{"$f":"SUM(F271:F294)","v":0},{"$f":"SUM(G271:G294)","v":0}]
[null,"16. Loan to Value (LTV) Information - UNINDEXED ","Nominal","Number of Loans",null,"% Commercial Loans","% No. of Loans"]
["M.7B.16.1","Weighted Average LTV (%)","[For completion]"]
[]
[null,"By LTV buckets (mn):"]
["M.7B.16.2",">0 - <=40 %","[For completion]","[For completion]",null,{"$f":"IF($C$308=0,\"\",IF(C300=\"[for completion]\",\"\",C300/$C$308))","v":""},{"$f":"IF($D$308=0,\"\",IF(D300=\"[for completion]\",\"\",D300/$D$308))","v":""}]
["M.7B.16.3",">40 - <=50 %","[For completion]","[For completion]",null,{"$f":"IF($C$308=0,\"\",IF(C301=\"[for completion]\",\"\",C301/$C$308))","v":""},{"$f":"IF($D$308=0,\"\",IF(D301=\"[for completion]\",\"\",D301/$D$308))","v":""}]
["M.7B.16.4",">50 - <=60 %","[For completion]","[For completion]",null,"",""]
["M.7B.16.5",">60 - <=70 %","[For completion]","[For completion]",null,"",""]
["M.7B.16.6",">70 - <=80 %","[For completion]","[For completion]",null,"",""]
["M.7B.16.7",">80 - <=90 %","[For completion]","[For completion]",null,"",""]
["M.7B.16.8",">90 - <=100 %","[For completion]","[For completion]",null,"",""]
["M.7B.16.9",">100%","[For completion]","[For completion]",null,"",""]
["M.7B.16.10","Total",{"$f":"SUM(C300:C307)","v":0},{"$f":"SUM(D300:D307)","v":0},null,{"$f":"SUM(F300:F307)","v":0},{"$f":"SUM(G300:G307)","v":0}]
["OM.7B.16.1","o/w >100 - <=110 %",null,null,null,"",""]
["OM.7B.16.2","o/w >110 - <=120 %",null,null,null,"",""]
["OM.7B.16.3","o/w >120 - <=130 %",null,null,null,"",""]
["OM.7B.16.4","o/w >130 - <=140 %",null,null,null,"",""]
["OM.7B.16.5","o/w >140 - <=150 %",null,null,null,"",""]
["OM.7B.16.6","o/w >150 %",null,null,null,"",""]
["OM.7B.16.7"]
["OM.7B.16.8"]
["OM.7B.16.9"]
[null,"17. Loan to Value (LTV) Information - INDEXED","Nominal","Number of Loans",null,"% Commercial Loans","% No. of Loans"]
["M.7B.17.1","Weighted Average LTV (%)","[Mark as ND1 if not relevant]"]
[]
[null,"By LTV buckets (mn):"]
["M.7B.17.2",">0 - <=40 %","[Mark as ND1 if not relevant]","[Mark as ND1 if not relevant]",null,{"$f":"IF($C$330=0,\"\",IF(C322=\"[Mark as ND1 if not relevant]\",\"\",C322/$C$330))","v":""},{"$f":"IF($D$330=0,\"\",IF(D322=\"[Mark as ND1 if not relevant]\",\"\",D322/$D$330))","v":""}]
["M.7B.17.3",">40 - <=50 %","[Mark as ND1 if not relevant]","[Mark as ND1 if not relevant]",null,{"$f":"IF($C$330=0,\"\",IF(C323=\"[Mark as ND1 if not relevant]\",\"\",C323/$C$330))","v":""},{"$f":"IF($D$330=0,\"\",IF(D323=\"[Mark as ND1 if not relevant]\",\"\",D323/$D$330))","v":""}]
["M.7B.17.4",">50 - <=60 %","[Mark as ND1 if not relevant]","[Mark as ND1 if not relevant]",null,"",""]
["M.7B.17.5",">60 - <=70 %","[Mark as ND1 if not relevant]","[Mark as ND1 if not relevant]",null,"",""]
["M.7B.17.6",">70 - <=80 %","[Mark as ND1 if not relevant]","[Mark as ND1 if not relevant]",null,"",""]
["M.7B.17.7",">80 - <=90 %","[Mark as ND1 if not relevant]","[Mark as ND1 if not relevant]",null,"",""]
["M.7B.17.8",">90 - <=100 %","[Mark as ND1 if not relevant]","[Mark as ND1 if not relevant]",null,"",""]
["M.7B.17.9",">100%","[Mark as ND1 if not relevant]","[Mark as ND1 if not relevant]",null,"",""]
["M.7B.17.10","Total",{"$f":"SUM(C322:C329)","v":0},{"$f":"SUM(D322:D329)","v":0},null,{"$f":"SUM(F322:F329)","v":0},{"$f":"SUM(G322:G329)","v":0}]
["OM.7B.17.1","o/w >100 - <=110 %",null,null,null,{"$f":"IF($C$330=0,\"\",IF(C331=\"[for completion]\",\"\",C331/$C$330))","v":""},{"$f":"IF($D$330=0,\"\",IF(D331=\"[for completion]\",\"\",D331/$D$330))","v":""}]
["OM.7B.17.2","o/w >110 - <=120 %",null,null,null,"",""]
["OM.7B.17.3","o/w >120 - <=130 %",null,null,null,"",""]
["OM.7B.17.4","o/w >130 - <=140 %",null,null,null,"",""]
["OM.7B.17.5","o/w >140 - <=150 %",null,null,null,"",""]
["OM.7B.17.6","o/w >150 %",null,null,null,"",""]
["OM.7B.17.7"]
["OM.7B.17.8"]
["OM.7B.17.9"]
[null,"18. Breakdown by Type","% Commercial loans"]
["M.7B.18.1","Retail","[For completion]"]
["M.7B.18.2","Office","[For completion]"]
["M.7B.18.3","Hotel/Tourism","[For completion]"]
["M.7B.18.4","Shopping malls","[For completion]"]
["M.7B.18.5","Industry","[For completion]"]
["M.7B.18.6","Agriculture","[For completion]"]
["M.7B.18.7","Other commercially used","[For completion]"]
["M.7B.18.8","Land","[For completion]"]
["M.7B.18.9","Property developers / Bulding under construction","[For completion]"]
["M.7B.18.10","Other","[For completion]"]
["OM.7B.18.1","o/w Social & Cultural purposes"]
["OM.7B.18.2","o/w [If relevant, please specify]"]
["OM.7B.18.3","o/w [If relevant, please specify]"]
["OM.7B.18.4","o/w [If relevant, please specify]"]
["OM.7B.18.5","o/w [If relevant, please specify]"]
["OM.7B.18.6","o/w [If relevant, please specify]"]
["OM.7B.18.7","o/w [If relevant, please specify]"]
["OM.7B.18.8","o/w [If relevant, please specify]"]
["OM.7B.18.9","o/w [If relevant, please specify]"]
["OM.7B.18.10","o/w [If relevant, please specify]"]
["OM.7B.18.11","o/w [If relevant, please specify]"]
["OM.7B.18.12","o/w [If relevant, please specify]"]
["OM.7B.18.13","o/w [If relevant, please specify]"]
["OM.7B.18.14","o/w [If relevant, please specify]"]
["OM.7B.18.15","o/w [If relevant, please specify]"]
["OM.7B.18.16","o/w [If relevant, please specify]"]
["OM.7B.18.17","o/w [If relevant, please specify]"]

{"sheet":"C. HTT Harmonized Glossary","index":2,"n_rows":40,"n_cols":3,"rows_kept":40,"cut":false,"hidden":false,"merged":[]}
["C. Harmonised Transparency Template - Glossary"]
[]
["The definitions below reflect the national specificities"]
[]
["Field Number","1. Glossary - Standard Harmonised Items","[Insert Definition Below]"]
["HG.1.1","OC Calculation: Actual","Based on nominal values in reporting currency NOK. For foreign currency covered bonds, FX-rate at issuance date is applied. "]
["HG.1.2","OC Calculation: Legal minimum","According to the legislation the value of the cover pool shall at all times exceed the value of covered bonds. When calculating the value of the cover pool non-performing loans shall be excluded, in addition the part of a mortgage loan exceeding 75% and 60%, for residential mortgages and commercial mortgages respectively, shall be excluded. Loans, interest rate contracts, foreign exchange contracts and substitute assets shall all be valued at prudent market value."]
["HG.1.3","OC Calculation: Committed","See HG.1.2"]
["HG.1.4","Interest Rate Types","Floating rate: Individual rate not directly linked to money market rates. \nFixed rate: Loans with a fixed rate for a limited period (typically 3, 5 or 10 years)."]
["HG.1.5","Maturity Buckets of Cover assets [i.e. how is the contractual and/or expected maturity defined? What assumptions eg, in terms of prepayments? etc.]","Only contractual maturity reported."]
["HG.1.6","Maturity Buckets of Covered Bonds [i.e. how is the contractual and/or expected maturity defined? What maturity structure (hard bullet, soft bullet, conditional pass through)? Under what conditions/circumstances? Etc.] ","For a soft bullet covered bond issued with 5 year remaining maturity and 1 year extended maturity (5+1), initial maturity is reported as 5 years and extended maturity as 6 years. For hard bullet covered bonds initial maturity and extended maturity is equal."]
["HG.1.7","LTVs: Definition","Unindexed LTV is defined as LTV at the time the loans was transferred to the cover pool. Maximum LTV is by regulation set to 75 percent for residential mortgages and 60 percent for commercial mortgages at the point of transfer. Indexed LTV is based on the latest updated valuation, typically an AVM estimate (please see HG.1.9 for further details)."]
["HG.1.8","LTVs: Calculation of property/shipping value"," LO + HP    \n    V\nLO = Loan balance or facility\nHP = Higher priority pledge\nV= Value of the property"]
["HG.1.9","LTVs: Applied property/shipping valuation techniques, including whether use of index, Automated Valuation Model (AVM) or on-site audits","The covered bond issuers in Norway perform a complete revaluation of every individual property in the cover pool on a quarterly basis. The revaluation is done using recognized statistical methods in accordance with the covered bond regulation. The model assigns every valuation a confidence level. For origination purposes the value is applied a hair-cut depending on the confidence level. For the purpose of valuing the properties already in the cover pool, market practice is to use the most probable (unbiased) valuation, regardless of the confidence level."]
["HG.1.10","LTVs: Frequency and time of last valuation","Every 3 months (frequency of real estate valuation for the purpose of calculating indexed LTV)."]
["HG.1.11","Explain how mortgage types are defined whether for residential housing, multi-family housing, commercial real estate, etc. Same for shipping where relecvant","[For completion]"]
["HG.1.12","Hedging Strategy (please explain how you address interest rate and currency risk)","All issuances of covered bonds in foreign currency are swapped to NOK to eliminate FX-risk entirely.\nFixed interest rate exposures in the form of fixed rate covered bonds and fixed rate mortgages are swapped to 3 month NIBOR."]
["HG.1.13","Non-performing loans","Non performing loans over 90 days after due date."]
["OHG.1.1","NPV assumptions (when stated)"]
["OHG.1.2"]
["OHG.1.3"]
["OHG.1.4"]
["OHG.1.5"]
[null,"2. Reason for No Data","Value"]
["HG.2.1","Not applicable for the jurisdiction ","ND1"]
["HG.2.2","Not relevant for the issuer and/or CB programme at the present time","ND2"]
["HG.2.3","Not available at the present time","ND3"]
["HG.2.1"]
["OHG.2.1"]
["OHG.2.2"]
[null,"3. Glossary - Extra national and/or Issuer Items","[Insert Definition Below]"]
["HG.3.1","Other definitions deemed relevant"]
["OHG.3.1","Interest rate risk","A mortgage credit institution shall not assume greater risk than what is prudent at any and all times. A mortgage credit institution is obliged to establish a limit on the interest rate risk which shall be fixed in relation to the institution's own funds and potential losses resulting from a parallel shift of 1 percentage point in all interest rate curves as well as nonparallell shifts in the interest rate curves. The interest rate curves shall be divided into time intervals, and value changes for each time interval shall be limited to a prudent portion of the overall limit on interest rate risk that is set for the institution."]
["OHG.3.2","Currency risk","A mortgage credit institution shall not assume greater foreign exchange risk than is prudent at any and all times. A mortgage credit institution is obliged to establish limits on foreign exchange risk."]
["OHG.3.3","Bullet/interest only loans","Interest only loans are defined as loans with a limited repayment exemption exceeding three months."]
["OHG.3.4","Buy-to-let","Buy-to-let refers to properties that are purchased and declared by borrowers for investment purposes. Approvals of such loans are subjected to the same regulatory requirements and assessment criteria as owner-occupied properties."]
["OHG.3.5","Seasoning","Seasoning is calculated based on the number of months since collateral for the loan was established."]
[]
["G.3.1.2","Outstanding Covered Bonds CRR Art. 129 1. (c) ","The outstanding covered bonds are here aggregated with the derivatives that are used to hedge currency and interest rates.  The nominal outstanding bonds (without derivatives) which are used to calculate exposures with regards to Art. 129 1. (c) can be found in the financial report, in the Asset Coverage Test note"]
["G.3.3.4","Substitute Assets CRR Art. 129 1. (c) ","Subsitute assets inlcuded here in HTT also include exposures shorter than 100 days which are both collateralized (reverse repos) and not collateralized (deposits). The data needed to calculate adherence with CRR Art 129. 1 (c) can be found in the Asset Coverage Test in the financial statements"]

{"sheet":"Disclaimer","index":3,"n_rows":0,"n_cols":0,"rows_kept":0,"cut":false,"hidden":false,"merged":[]}

{"sheet":"D. Insert Nat Trans Templ","index":4,"n_rows":32,"n_cols":22,"rows_kept":32,"cut":false,"hidden":false,"merged":[[33,2,35,13],[14,3,14,8],[19,3,19,12],[20,3,20,12],[21,3,21,12],[22,3,22,12],[25,3,25,12],[13,3,13,8],[1,3,1,12],[3,3,3,12],[10,3,10,8],[11,3,11,8],[12,3,12,8]]}
[]
[null,null,null,"Norwegian Transparency Template"]
[]
[null,null,null,"Additional information from Norwegian Issuers using HTT"]
[]
[]
[]
[null,null,null,"Stresstest - House price decline"]
[]
[null,null,null,"House price decline",null,null,null,null,null,"Current",0.1,0.2,0.3]
[null,null,null,"Total cover pool balance (NOK mill)",null,null,null,null,null,{"$f":"'A. HTT General'!C38","v":212178.09378280598},null,null,null,null,null,null,0,0.1,0.2,0.3,"Assumed House price decline"]
[null,null,null,"WA indexed LTV (%)",null,null,null,null,null,0.50882022343935895,0.5653343847078437,0.63597639794227867,0.72680009852203176,null,null,null,1069054984.1599998,3896201175.4450002,9557934012.7600021,18764225096.595005,"Ineligible assets at house price drop"]
[null,null,null,"Eligible cover pool balance (NOK mill)",null,null,null,null,null,{"$f":"J11","v":212178.09378280598},{"$f":"J13-R12/V13","v":208281.89260736099},{"$f":"J13-S12/V13","v":202620.15977004598},{"$f":"J13-T12/V13","v":193413.86868621098},null,null,null,"(uneligible amount at 0% house price decline assumes undrawn credit lines fully drawn)",null,null,null,null,1000000]
[null,null,null,"Total outstanding covered bonds (NOK mill)",null,null,null,null,null,{"$f":"'A. HTT General'!C39","v":197703.29231756},{"$f":"J14","v":197703.29231756},{"$f":"K14","v":197703.29231756},197703.29231756]
[null,null,null,"Eligible overcollateralization",null,null,null,null,null,{"$f":"J13/J14","v":1.0732147719725167},{"$f":"K13/K14","v":1.05350745637968},{"$f":"L13/L14","v":1.0248699320828116},{"$f":"M13/M14","v":0.97830373191530284}]
[null,null,null,"Cover pool qualified reserves remaining in owner banks after required top of of cover pool (NOK mill)",null,null,null,null,null,{"$f":"116298041211.73/$V$13","v":116298.04121173},{"$f":"106837418060.215/V13","v":106837.418060215},{"$f":"93010986870.73/V13","v":93010.98687072999},{"$f":"73945556287.335/V13","v":73945.556287335014}]
[]
[null,null,null,"Additional comments"]
[]
[null,null,null,"SpareBank 1 Boligkreditt qualifies mortgages from its parents banks prior to transfer to the cover pool, but not all "]
[null,null,null,"qualified mortgages are transferred to the cover pool immediately, but when covered bond funding is required "]
[null,null,null,"by the owner banks.  The banks are then required  to add assets (e.g. mortgages) to the cover pool if a sufficent volume of   "]
[null,null,null,"mortgages in the pool should  become ineligble.  Banks must hold reserves for this purpose (as shown in the 30% scenario above). "]
[]
[null,null,null,"The minimum level of reserves a bank must hold is equal to the amount of additional mortgage assets needed to cover a 30% decline  in house prices.  "]
[null,null,null,"The eligible overcollateralization which drops below 100% in the 30% decline scenario only describes the existing "]
[null,null,null,"pool without regard to the reserves not yet transferrred to Boligkreditt.  Cover pool qualified mortgage reserves on the owner banks'"]
[null,null,null,"balance sheets are listed in the last line in the table above. "]
[]
[null,null,null,"The overcollateralization as calculated here is different than in the financial statements, mainly due to the inclusion of derivatives in the "]
[null,null,null,"financial statements as part of cover pool assets, a legal requirement.  The derivatives, however, hedge the issued debt against changes in fx rates"]
[null,null,null," and interest rates, and should therefore economically be grouped with the debt they hedge as is done here."]

{"sheet":"Details Liquid Assets","index":5,"n_rows":120,"n_cols":8,"rows_kept":120,"cut":false,"hidden":false,"merged":[]}
[]
[]
[null,{"$f":"[3]Cover!B7","v":"Covered Bond Programme - Cover Pool Report 30. September 2019 *"}]
[null,"Substitute collateral **","Total balance (NOK)"]
[null,"Total balance",{"$f":"H114","v":22714263295.085514}]
[null,"Currency breakdown (in NOK)"]
[null,"   Total NOK",{"$f":"+SUMIF(F20:F112,\"NOK\",H20:H112)","v":14506572431.849998}]
[null,"   Total EUR",{"$f":"+SUMIF(F20:F112,\"EUR\",H20:H112)","v":8207686754.2818317}]
[null,"   Total SEK",{"$f":"+SUMIF(F20:F112,\"SEK\",H20:H112)","v":0}]
[null,"   Total USD",{"$f":"+SUMIF(F20:F112,\"USD\",H20:H112)","v":4108.9536800000005}]
[null,"By Type of Exposure:"]
[null,"   Government debt",{"$f":"+SUMIF($D$20:$D$112,\"Sovereign\",$H$20:$H$112)","v":100000000},null,"Currency and interest rate risks which arise from non-NOK denominated and/or fixed rate bonds"]
[null,"   Sub Sovereign & Agency",{"$f":"+SUMIF($D$20:$D$112,\"SSA\",$H$20:$H$112)","v":1731016800},null,"are mitigated through swap contracts.  All cash flows are swapped back to a NOK denominated"]
[null,"   Covered Bond",{"$f":"+SUMIF($D$20:$D$113,\"Covered Bond\",$H$20:$H$113)","v":18757591240},null,"3 months NIBOR basis.  This list contains exposures at nominal values excluding swaps and accrued interest"]
[null,"   Deposit",{"$f":"+SUMIF($D$20:$D$114,\"Deposit\",$H$20:H114)","v":987655255.08551192}]
[null,"   Repo",{"$f":"+SUMIF($D$20:$D$114,\"Reverse Repo\",$H$20:H115)","v":1138000000}]
[]
[]
[null,"Bond Name/ Counterparty","ISIN","Exposure type","Rating *","Currency","Currency Amt","NOK amount"]
[null,"City of Gothenburg","XS1356971769","SSA","AAA / Aaa / AAA","NOK",100000000,100000000]
[null,"CITY OF STOCKHOLM","XS1190992930","SSA","AAA / Aaa / AAA","NOK",50000000,50000000]
[null,"CITY OF STOCKHOLM","XS1799536922","SSA","AAA / Aaa / AAA","NOK",100000000,100000000]
[null,"DANSKE BANK A/S","NO0010765670","Covered Bond","AAA / -- / AAA","NOK",234000000,234000000]
[null,"DANSKE BANK A/S","NO0010771082","Covered Bond","AAA / -- / AAA","NOK",90000000,90000000]
[null,"DANSKE BANK A/S","NO0010795768","Covered Bond","AAA / -- / AAA","NOK",125000000,125000000]
[null,"DANSKE BANK A/S","NO0010826233","Covered Bond","AAA / -- / AAA","NOK",300000000,300000000]
[null,"DANSKE BANK A/S","NO0010861081","Covered Bond","AAA / -- / AAA","NOK",510000000,510000000]
[null,"DANSKE BANK A/S","XS0896159257","Covered Bond","AAA / -- / AAA","EUR",11000000,109199200]
[null,"DANSKE BANK A/S","XS1287931601","Covered Bond","AAA / -- / AAA","EUR",10700000,106221040]
[null,"DnB NOR Boligkreditt AS","NO0010664394","Covered Bond","-- / Aaa / AAA","NOK",1208000000,1208000000]
[null,"DnB NOR Boligkreditt AS","NO0010672405","Covered Bond","-- / Aaa / AAA","NOK",696000000,696000000]
[null,"DnB NOR Boligkreditt AS","NO0010721111","Covered Bond","-- / Aaa / AAA","NOK",1204000000,1204000000]
[null,"DnB NOR Boligkreditt AS","NO0010723471","Covered Bond","-- / Aaa / AAA","NOK",10000000,10000000]
[null,"DnB NOR Boligkreditt AS","NO0010802960","Covered Bond","-- / Aaa / AAA","NOK",340000000,340000000]
[null,"DnB NOR Boligkreditt AS","NO0010821051","Covered Bond","-- / Aaa / AAA","NOK",966000000,966000000]
[null,"DnB NOR Boligkreditt AS","NO0010840697","Covered Bond","-- / Aaa / AAA","NOK",370000000,370000000]
[null,"DnB NOR Boligkreditt AS","XS1137512742","Covered Bond","-- / Aaa / AAA","EUR",2000000,19854400]
[null,"DnB NOR Boligkreditt AS","XS1308759718","Covered Bond","-- / Aaa / AAA","EUR",20000000,198544000]
[null,"DnB NOR Boligkreditt AS","XS1396253236","Covered Bond","-- / Aaa / AAA","EUR",5000000,49636000]
[null,"DnB NOR Boligkreditt AS","XS1548410080","Covered Bond","-- / Aaa / AAA","EUR",15000000,148908000]
[null,"DnB NOR Boligkreditt AS","XS1719108463","Covered Bond","-- / Aaa / AAA","EUR",20000000,198544000]
[null,"DnB NOR Boligkreditt AS","XS1756428469","Covered Bond","-- / Aaa / AAA","EUR",18000000,178689600]
[null,"Eika Boligkreditt AS","NO0010732258","Covered Bond","- / Aaa / --","NOK",51000000,51000000]
[null,"Eika Boligkreditt AS","NO0010775190","Covered Bond","- / Aaa / --","NOK",140000000,140000000]
[null,"Eika Boligkreditt AS","NO0010794308","Covered Bond","- / Aaa / --","NOK",180000000,180000000]
[null,"Eika Boligkreditt AS","XS0881369770","Covered Bond","- / Aaa / --","EUR",34325000,340751140]
[null,"Eika Boligkreditt AS","XS1044766191","Covered Bond","- / Aaa / --","EUR",26300000,261085360]
[null,"Eika Boligkreditt AS","XS1397054245","Covered Bond","- / Aaa / --","EUR",26000000,258107200]
[null,"European Investment Bank","NO0010743305","SSA","AAA / Aaa / AAA","NOK",50000000,50000000]
[null,"European Investment Bank","XS1555330999","SSA","AAA / Aaa / AAA","NOK",200000000,200000000]
[null,"Federal State of North Rhine-Westphalia","DE000NRW0KS7","SSA","AAA / Aa1 / AA","EUR",14000000,138980800]
[null,"Gjensidige Bank  Boligkreditt AS","NO0010770852","Covered Bond","AAA / Aaa / AAA","NOK",100000000,100000000]
[null,"KFW Bankengruppe","DE000A1K0UG6","SSA","AAA / Aaa / AAA","EUR",5000000,49636000]
[null,"KFW Bankengruppe","NO0010776826","SSA","AAA / Aaa / AAA","NOK",713700000,713700000]
[null,"KFW Bankengruppe","XS2046690827","SSA","AAA / Aaa / AAA","NOK",150000000,150000000]
[null,"KLP Kommunekreditt","NO0010774474","Covered Bond","- / Aaa / --","NOK",20000000,20000000]
[null,"KLP Kommunekreditt","NO0010793573","Covered Bond","- / Aaa / --","NOK",65000000,65000000]
[null,"KLP Kommunekreditt","NO0010835473","Covered Bond","- / Aaa / --","NOK",500000000,500000000]
[null,"Landshypotek","XS1799048704","Covered Bond","- / Aaa / --","EUR",15000000,148908000]
[null,"Møre Boligkreditt AS","NO0010819543","Covered Bond","- / Aaa / --","NOK",50000000,50000000]
[null,"Møre Boligkreditt AS","NO0010853096","Covered Bond","- / Aaa / --","NOK",200000000,200000000]
[null,"Møre Boligkreditt AS","XS1626109968","Covered Bond","- / Aaa / --","EUR",16000000,158835200]
[null,"Nordea Bank Finland PLC","XS1554271590","Covered Bond","- / Aaa / --","EUR",38000000,377233600]
[null,"Nordea Eiendomskreditt","NO0010703531","Covered Bond","- / Aaa / --","NOK",33000000,33000000]
[null,"Nordea Eiendomskreditt","NO0010759632","Covered Bond","- / Aaa / --","NOK",800000000,800000000]
[null,"Nordea Eiendomskreditt","NO0010819717","Covered Bond","- / Aaa / --","NOK",350000000,350000000]
[null,"Nordea Eiendomskreditt","NO0010843626","Covered Bond","- / Aaa / --","NOK",400000000,400000000]
[null,"NORDEA MORTGAGE BANK PLC","XS0874351728","Covered Bond","- / Aaa / --","EUR",20000000,198543999.99999997]
[null,"NORDEA MORTGAGE BANK PLC","XS1784067529","Covered Bond","- / Aaa / --","EUR",14000000,138980800]
[null,"Norsk Stat","NO0010839566","Sovereign","AAA / Aaa / AAA","NOK",100000000,100000000]
[null,"OP Mortgage Bank","XS1285892870","Covered Bond","- / Aaa / --","EUR",9000000,89344800]
[null,"OP Mortgage Bank","XS1324085569","Covered Bond","- / Aaa / --","EUR",11000000,109199200]
[null,"Rentenbank","XS1508901797","SSA","AAA / Aaa / AAA","NOK",178700000,178700000]
[null,"Skandiabanken Boligkreditt AS","NO0010745342","Covered Bond","- / Aaa / --","NOK",173000000,173000000]
[null,"Skandiabanken Boligkreditt AS","NO0010786999","Covered Bond","- / Aaa / --","NOK",5000000,5000000]
[null,"Skandiabanken Boligkreditt AS","NO0010790603","Covered Bond","- / Aaa / --","NOK",204000000,204000000]
[null,"Skandinaviska Enskilda Bank","XS0894500981","Covered Bond","- / Aaa / --","EUR",24300000,241230960]
[null,"Skandinaviska Enskilda Bank","XS0988357090","Covered Bond","- / Aaa / --","EUR",5000000,49636000]
[null,"Skandinaviska Enskilda Bank","XS1314150878","Covered Bond","- / Aaa / --","EUR",20000000,198544000]
[null,"Skandinaviska Enskilda Bank","XS1362319284","Covered Bond","- / Aaa / --","EUR",76562000,760046286.39999998]
[null,"Skandinaviska Enskilda Bank","XS1948598997","Covered Bond","- / Aaa / --","EUR",10000000,99272000]
[null,"Sparebanken Sør Boligkreditt AS","NO0010714058","Covered Bond","- / Aaa / --","NOK",25000000,25000000]
[null,"Sparebanken Sør Boligkreditt AS","NO0010832637","Covered Bond","- / Aaa / --","NOK",35000000,35000000]
[null,"Sparebanken Sør Boligkreditt AS","XS1622285283","Covered Bond","-- / Aaa / --","EUR",20000000,198544000]
[null,"Sparebanken Vest Boligkreditt","NO0010748338","Covered Bond","-- / Aaa / --","NOK",476000000,476000000]
[null,"Sparebanken Vest Boligkreditt","NO0010798044","Covered Bond","- / Aaa / -","NOK",400000000,400000000]
[null,"Sparebanken Vest Boligkreditt","NO0010805179","Covered Bond","- / Aaa / -","NOK",100000000,100000000]
[null,"Sparebanken Vest Boligkreditt","NO0010835390","Covered Bond","- / Aaa / -","NOK",19000000,19000000]
[null,"Sparebanken Vest Boligkreditt","XS1373992616","Covered Bond","- / Aaa / -","EUR",15700000,155857040]
[null,"Sparebanken Vest Boligkreditt","XS1565074744","Covered Bond","- / Aaa / -","EUR",12000000,119126400]
[null,"Sparebanken Vest Boligkreditt","XS1951084638","Covered Bond","- / Aaa / -","EUR",5000000,49636000]
[null,"Stadshypotek","NO0010712953","Covered Bond","- / Aaa / -","NOK",42000000,42000000]
[null,"Stadshypotek","NO0010762685","Covered Bond","- / Aaa / -","NOK",50000000,50000000]
[null,"Stadshypotek","NO0010847114","Covered Bond","- / Aaa / -","NOK",350000000,350000000]
[null,"Stadshypotek","XS0987101242","Covered Bond","- / Aaa / -","EUR",65000000,645268000]
[null,"Stadshypotek","XS1324397964","Covered Bond","- / Aaa / -","EUR",52380000,519986736]
[null,"Stadshypotek","XS1368543135","Covered Bond","- / Aaa / -","EUR",26100000,259099920]
[null,"Swedbank Hypotek AB","XS1778322351","Covered Bond","- / Aaa / -","EUR",20000000,198544000]
[null,"Swedbank Hypotek AB","XS2002504194","Covered Bond","- / Aaa / -","EUR",22500000,223362000]
[null,"Swedish Covered Bond Corporation","XS1117542412","Covered Bond","- / Aaa / -","EUR",47300000,469556560]
[null,"Swedish Covered Bond Corporation","XS1300812077","Covered Bond","- / Aaa / -","EUR",62283000,618295797.60000002]
[null,"Swedbank Hypotek AB","NO0010708118","Covered Bond","- / Aaa / -","NOK",40000000,40000000]
[]
[null,"Sparebank 1 SR-Bank",null,"Deposit","A- / A1 / -","NOK",860672740.46999991,860672740.46999991]
[null,"Sparebank 1 SR-Bank",null,"Deposit","A- / A1 / -","EUR",4837797.959999999,48025787.908511996]
[null,"Sparebank 1 SR-Bank",null,"Deposit","A- / A1 / -","USD",452.05,4108.9536800000005]
[null,"Sparebank 1 Nord-Norge",null,"Deposit","A / A1 / -","NOK",100248,100248]
[null,"SpareBank 1 SMN",null,"Deposit","A- / A1 / -","NOK",31824.33,31824.33]
[null,"Skandinaviska Enskilda Bank Oslo",null,"Deposit","AA- / Aa3 / A+","NOK",1910526.05,1910526.05]
[null,"Skandinaviska Enskilda Bank Oslo",null,"Deposit","AA- / Aa3 / A+","EUR",7499891.8499999996,74452926.373319983]
[null,"Swedbank",null,"Deposit","AA- / Aa3 / AA-","NOK",2457093,2457093]
[null,"Danske Bank",null,"Reverse repo",null,"NOK",1138000000,1138000000]
[]
[null,"Total",null,null,null,null,null,{"$f":"SUM(H20:H112)","v":22714263295.085514}]
[]
[null,null,null,null,null,null,"NOK/EUR",{"$f":"H96/G96","v":9.9271999999999991}]
[null,null,null,null,null,null,"NOK/USD",{"$f":"H106/G106","v":9.0896000000000008}]
[null,"* Rating is Fitch / Moody's / S&P and is sourced from Bloomberg"]
[null,"** Any differences in this table and the financial statements is due to the quarter-end FX rates used for non-NOK amounts in this table,"]
[null,"as well as nominal amounts rather than book (market) values"]

{"sheet":"Issued Bonds","index":6,"n_rows":63,"n_cols":11,"rows_kept":63,"cut":false,"hidden":false,"merged":[[5,1,5,8],[6,1,6,8],[7,1,7,8]]}
[]
[]
[]
[null,null,null,null," ",null," "]
[]
[]
[null,"Covered Bond Programme - Cover Pool Report 30. September 2019 *"]
[null,"Public Covered Bonds Outstanding:"]
[]
[null,"Series","Amount (Mill)","Issued","Expected Final Maturity","Rating","Interest Basis","Frequency","ISIN","Swap rate FX"]
[null,"EUR"]
[null,"Series 5/2019",1000,"11 / 2019","11 / 2029","Aaa","0.125% Fixed","Annually","XS2076139166",10.199999999999999]
[null,"Series 2/2019",1000,"05 / 2019","05 / 2026","Aaa","0.125% Fixed","Annually","XS1995620967",9.75]
[null,"Series 1/2019",1250,"01 / 2019","01 / 2029","Aaa","1% Fixed rate","Annually","XS1943561883",9.7799999999999994]
[null,"Series 4/2018",25,"12 / 2018","12 / 2038","Aaa","1.49% Fixed rate","Annually","XS1922110009",10]
[null,"Series 3/2018",1000,"06 / 2018","06 / 2023","Aaa","0.375% Fixed rate","Annually","XS1839386908",9.5]
[null,"Series 1/2018 (green)",1000,"01 / 2018","01 / 2025","Aaa","0.5% Fixed rate","Annually","XS1760129608",9.64]
[null,"Series 3 / 2017",1000,"06 / 2017","06 / 2024","AAA / Aaa","0.375% Fixed rate","Annually","XS1637099026",9.4600000000000009]
[null,"Series 2 / 2017",1000,"01 / 2017","01 / 2022","AAA / Aaa","0.05% Fixed rate","Annually","XS1555317897",{"$f":"(9.0489+(4530000000/500000000))/2","v":9.0544499999999992}]
[null,"Series 1 / 2017",20,"01 / 2017","01 / 2027","AAA / Aaa","3m Euribor +100 bps","Annually","XS1551914143","n/a"]
[null,"Series 7 / 2016",1000,"08 / 2016","08 / 2026","AAA / Aaa","0.375% Fixed rate","Annually","XS1482554075",9.32]
[null,"Series 6 / 2016",30,"04 / 2016","01 / 2026","AAA / Aaa","0.72% Fixed rate","Annually","XS1394910688",9.5]
[null,"Series 3 / 2016",1000,"03 / 2016","03 / 2023","AAA / Aaa","0.375% Fixed rate","Annually","XS1377237869",9.4184999999999999]
[null,"Series 2 / 2016",15,"03 / 2016","03 / 2024","AAA / Aaa","3m Euribor + 60bps","Quarterly","XS1373138988","n/a"]
[null,"Series 3/2015",1000,"09 / 2015","09 / 2022","AAA / Aaa","0.75% Fixed rate","Annually","XS1285867419",{"$f":"9.415","v":9.4149999999999991}]
[null,"Series 6/2013",1000,"11 / 2013","01 / 2020","AAA / Aaa","1.50% Fixed rate","Annually","XS0995022661",8.2799999999999994]
[null,"Series 4/2013",1000,"06 / 2013","06 / 2020","AAA / Aaa","1.50% Fixed rate","Annually","XS0942804351",7.61]
[null,"Series 6/2011",1000,"08 / 2011","09 / 2021","AAA / Aaa","3.375% Fixed rate","Annually","XS0674396782",7.7]
[null,"Series 1/2011",1000,"02 / 2011","02 / 2021","AAA / Aaa","4% Fixed rate","Annually","XS0587952085",7.93]
[]
[null,"GBP"]
[null,"Series 2/2018",250,"04 / 2018","12 / 2023","Aaa",1.7500000000000002E-2,"Annually","XS1808327693",11.01]
[null,"Series 5/2017",500,"11 / 2017","11 / 2022","Aaa","3m £ LIBOR + 27 bps","Quarterly","XS171637104",10.692]
[]
[null,"USD"]
[null,"Series 7/2012",{"$f":"1250-199.25","v":1050.75},"11 / 2012","11 / 2019","AAA / Aaa","1.75% Fixed Rate","Semi-annually","XS0858653230",5.74]
[]
[null,"NOK"]
[null,"Series 4/2019",1500,"10/ 2019","10 / 2029","Aaa","2.10% Fixed Rate","Annually","NO0010866791",null,"ok"]
[null,"Series 3/2019",8100,"5 / 2019","5 / 2024","Aaa","3m NIBOR + 24bps","Quarterly","NO0010860745",null,"ok"]
[null,"Series 4/2018",4200,"10 / 2018","10 / 2024","Aaa","2.45% Fixed Rate","Annually","NO0070834450",null,"ok"]
[null,"Series 4/2017",8500,"10 / 2017","06 / 2023","Aaa","3m NIBOR + 39bps","Quarterly","NO0010809353",null,"ok"]
[null,"Series 8/2016",1200,"12 / 2016","11 / 2026","AAA / Aaa","2.10% Fixed Rate","Annually","NO0010778764",null,"ok"]
[null,"Series 5/2016",{"$f":"7750+1750","v":9500},"04 / 2016","06 / 2022","AAA / Aaa","3m NIBOR + 74bps","Quarterly","NO0010760804",null,"ok"]
[null,"Series 4/2016",2400,"03 / 2016","06 / 2028","AAA / Aaa","2.38% Fixed Rate","Annually","NO0010760176",null,"ok"]
[null,"Series 1/2016",2200,"02 / 2016","06 / 2022","AAA / Aaa","1.90% Fixed Rate","Annually","NO0010756885",null,"ok"]
[null,"Series 2/2015",2500,"01 / 2015","06 / 2021","AAA / Aaa","1.50% Fixed Rate","Annually","NO0010730047",null,"ok"]
[null,"Series 1/2015",10500,"04 / 2015","06 / 2021","AAA / Aaa","Floating Rate","Quarterly","NO0010730005",null,"ok"]
[null,"Series 1/2014",80,"12 / 2014","12 / 2020 ","AAA / Aaa","1.90% Fixed Rate","Annually","NO0010725021",null,"ok"]
[null,"Series 1/2013",6104,"01 / 2013","06 / 2020","AAA / Aaa","Floating Rate","Quarterly","NO0010670508",null,"ok"]
[null,"Series 7/2011",1650,"10 / 2011","10 / 2026","AAA / Aaa","4.75% Fixed Rate","Annually","NO0010625460",null,"ok"]
[null,"Series 4/2011",3020,"07 / 2011","07 / 2022","AAA / Aaa","5% Fixed Rate","Annually","NO0010622137",null,"ok"]
[]
[null,"SEK"]
[null,"Series 3/2012",250,"05 / 2012","05 / 2022","AAA / Aaa","3.25% Fixed Rate","Annually","NO0010646904",0.86]
[]
[null,null,null,null,null,"Currency and interest rate risks which arise from non-NOK denominated and/or fixed rate bonds"]
[null,null,null,null,null,"are mitigated through swap contracts.  All cash flows are swapped back to a NOK denominated"]
[null,"SB1 Reporting Contact",null,null,null,"3 months NIBOR basis.  "]
[null,"Eivind Hegelstad, Investor Relations"]
[null,"eivind.hegelstad@sparebank1.no",null,null,null,"* The list reflects transactions beyond the reporting date (previous quarter-end) if any has occured"]
[null,"Phone: +47 51 50 93 67"]
[null,null,null,null,null,"From the 3rd quarter 2017 the covered bonds are rated by Moodys only"]